BEGIN:VCALENDAR
PRODID:NingEventWidget-v1
VERSION:2.0
METHOD:PUBLISH
BEGIN:VTIMEZONE
TZID:America/Los_Angeles
X-LIC-LOCATION:America/Los_Angeles
BEGIN:DAYLIGHT
TZOFFSETFROM:-0800
TZOFFSETTO:-0700
TZNAME:PDT
DTSTART:19700308T020000
RRULE:FREQ=YEARLY;BYMONTH=3;BYDAY=2SU
END:DAYLIGHT
BEGIN:STANDARD
TZOFFSETFROM:-0700
TZOFFSETTO:-0800
TZNAME:PST
DTSTART:19701101T020000
RRULE:FREQ=YEARLY;BYMONTH=11;BYDAY=1SU
END:STANDARD
END:VTIMEZONE
BEGIN:VEVENT
UID:1464587:Event:834841
DTSTAMP:20260421T033012Z
SUMMARY:The Pharcyde (WIN TICKETS)
DESCRIPTION:ENTER TO WIN A PAIR OF TICKETS. WINNER WILL BE DRAWN RANDO
 MLY AND ANNOUNCED 2 DAYS PRIOR TO EVENT. \r\n\r\nSATURDAY, MAR 8\r\n 
 One of the most influential and beloved groups in hip-hop history\r\n 
 THE PHARCYDE\r\n \r\n @ Yoshi's, 510 Embarcadero, Oakland\r\n >> BUY T
 ICKETS\r\n\r\n\r\n\n\nFor more information visit https://trueskool.com
 /events/the-pharcyde-win-tickets
DTSTART;TZID=America/Los_Angeles:20250308T190000
DTEND;TZID=America/Los_Angeles:20250308T230000
CATEGORIES:"bay area", oakland
LOCATION:Yoshi's, Oakland
WEBSITE:https://yoshis.com/events/buy-tickets/the-pharcyde/detail
URL:https://yoshis.com/events/buy-tickets/the-pharcyde/detail
CONTACT:
ORGANIZER:Yoshi's
ATTACH;FMTTYPE="image/jpeg":https://storage.ning.com/topology/rest/1.0
 /file/get/13464043074?profile=original
ATTENDEE;ROLE=REQ-PARTICIPANT;PARTSTAT=ACCEPTED;RSVP=TRUE;CN="Editor's
  Pick":https://trueskool.com/profile/RentheVinylArchaeologist
END:VEVENT
END:VCALENDAR
