BEGIN:VCALENDAR
PRODID:NingEventWidget-v1
VERSION:2.0
METHOD:PUBLISH
BEGIN:VTIMEZONE
TZID:America/Los_Angeles
X-LIC-LOCATION:America/Los_Angeles
BEGIN:DAYLIGHT
TZOFFSETFROM:-0800
TZOFFSETTO:-0700
TZNAME:PDT
DTSTART:19700308T020000
RRULE:FREQ=YEARLY;BYMONTH=3;BYDAY=2SU
END:DAYLIGHT
BEGIN:STANDARD
TZOFFSETFROM:-0700
TZOFFSETTO:-0800
TZNAME:PST
DTSTART:19701101T020000
RRULE:FREQ=YEARLY;BYMONTH=11;BYDAY=1SU
END:STANDARD
END:VTIMEZONE
BEGIN:VEVENT
UID:1464587:Event:59953
DTSTAMP:20260420T211815Z
SUMMARY:THE PHARCYDE
DESCRIPTION:CLICK HERE TO WIN A PAIR OF TICKETS:\nhttp://www.trueskool
 .com/group/wintickets\n\n\nTHURSDAY, AUGUST 5\nTHE PHARCYDE\nImani, Bo
 otie Brown, and Slimkid Tre\n\nwith special guests\nTajai, A-Plus & Ph
 esto of\nSouls of Mischief\n\nsupport:\nArchitex\nEl Vuh\n& Grandaddy
  Purp\n\nwith DJ Mr.E on the 1s & 2s\n\nRuby Skye, 420 Mason Street,
  San Francisco, CA\n21+ w/ID. doors: 8pm\n\nThe levity and fun filled 
 funk of the Pharcyde invades Ruby Skye. Reunited members Slimkid Tre, 
 Booty Brown and Imani take fans on a bizarre ride through labcabincali
 fornia, the two seminal recordings that helped shape the primary wave 
 of alternative hip-hop that included trailblazers, A Tribe Called Ques
 t and De La Soul.\n\nWith a catalog chock full of standard hip-hop hit
 s including their first single, “Ya Mama,” rock crossover favorite
 , “Passin’ Me By,” and “Runnin,” Pharcyde can be counted on 
 for an electric stage show and infectious energy.\n\nFor more informat
 ion visit https://trueskool.com/events/the-pharcyde-1
DTSTART;TZID=America/Los_Angeles:20100805T200000
DTEND;TZID=America/Los_Angeles:20100806T020000
CATEGORIES:"21+", hip, hop
LOCATION:Ruby Skye, San Francisco, CA
WEBSITE:http://www.ticketweb.com/t3/sale/SaleEventDetail?dispatch=load
 SelectionData&eventId=2203725&REFERRAL_ID=tmfeed&crosssite=TM_US:74892
 9:337537
URL:http://www.ticketweb.com/t3/sale/SaleEventDetail?dispatch=loadSele
 ctionData&eventId=2203725&REFERRAL_ID=tmfeed&crosssite=TM_US:748929:33
 7537
CONTACT:
ORGANIZER:Tastemaker Live!
ATTACH;FMTTYPE="image/jpeg":http://storage.ning.com/topology/rest/1.0/
 file/get/2247881167?profile=original
ATTENDEE;ROLE=REQ-PARTICIPANT;PARTSTAT=ACCEPTED;RSVP=TRUE;CN="Editor's
  Pick":https://trueskool.com/profile/RentheVinylArchaeologist
ATTENDEE;ROLE=REQ-PARTICIPANT;PARTSTAT=ACCEPTED;RSVP=TRUE;CN="caramel 
 queen":https://trueskool.com/profile/caramelqueen
ATTENDEE;ROLE=REQ-PARTICIPANT;PARTSTAT=TENTATIVE;RSVP=TRUE;CN="Skinny 
 Jakins":https://trueskool.com/profile/SalvatoreGermano
END:VEVENT
END:VCALENDAR
