BEGIN:VCALENDAR
PRODID:NingEventWidget-v1
VERSION:2.0
METHOD:PUBLISH
BEGIN:VTIMEZONE
TZID:America/Los_Angeles
X-LIC-LOCATION:America/Los_Angeles
BEGIN:DAYLIGHT
TZOFFSETFROM:-0800
TZOFFSETTO:-0700
TZNAME:PDT
DTSTART:19700308T020000
RRULE:FREQ=YEARLY;BYMONTH=3;BYDAY=2SU
END:DAYLIGHT
BEGIN:STANDARD
TZOFFSETFROM:-0700
TZOFFSETTO:-0800
TZNAME:PST
DTSTART:19701101T020000
RRULE:FREQ=YEARLY;BYMONTH=11;BYDAY=1SU
END:STANDARD
END:VTIMEZONE
BEGIN:VEVENT
UID:1464587:Event:36670
DTSTAMP:20260421T020214Z
SUMMARY:The Perfect Beat @ Mercury Lounge *1st Saturdays*
DESCRIPTION:\n\nFor more information visit https://trueskool.com/event
 s/the-perfect-beat-mercury
DTSTART;TZID=America/Los_Angeles:20090801T220000
DTEND;TZID=America/Los_Angeles:20090802T020000
CATEGORIES:soul, latin, afrobeat, reggae, "&", the, "unexpected!!"
LOCATION:Mercury Louge, San Francisco, CA
WEBSITE:http://www.deejaydmadness.blogspot.com
URL:http://www.deejaydmadness.blogspot.com
CONTACT:
ORGANIZER;CN="Fiyah Lilly":https://trueskool.com/profile/FiyahLilly
ATTACH;FMTTYPE="image/jpeg":http://storage.ning.com/topology/rest/1.0/
 file/get/2247859239?profile=original
ATTENDEE;ROLE=REQ-PARTICIPANT;PARTSTAT=ACCEPTED;RSVP=TRUE;CN="Fiyah Li
 lly":https://trueskool.com/profile/FiyahLilly
END:VEVENT
END:VCALENDAR
