BEGIN:VCALENDAR
PRODID:NingEventWidget-v1
VERSION:2.0
METHOD:PUBLISH
BEGIN:VTIMEZONE
TZID:America/Los_Angeles
X-LIC-LOCATION:America/Los_Angeles
BEGIN:DAYLIGHT
TZOFFSETFROM:-0800
TZOFFSETTO:-0700
TZNAME:PDT
DTSTART:19700308T020000
RRULE:FREQ=YEARLY;BYMONTH=3;BYDAY=2SU
END:DAYLIGHT
BEGIN:STANDARD
TZOFFSETFROM:-0700
TZOFFSETTO:-0800
TZNAME:PST
DTSTART:19701101T020000
RRULE:FREQ=YEARLY;BYMONTH=11;BYDAY=1SU
END:STANDARD
END:VTIMEZONE
BEGIN:VEVENT
UID:1464587:Event:42041
DTSTAMP:20260420T213041Z
SUMMARY:THE PEOPLE Returns!
DESCRIPTION:\n\nFor more information visit https://trueskool.com/event
 s/the-people-returns
DTSTART;TZID=America/Los_Angeles:20091024T210000
DTEND;TZID=America/Los_Angeles:20091025T020000
CATEGORIES:house, soul, hip, hop, afrobeat, brazilian, latin
LOCATION:The New Parish
WEBSITE:http://www.thenewparish.com/
URL:http://www.thenewparish.com/
CONTACT:
ORGANIZER:Be Brown, Cali, Cecil, and heyLove
ATTACH;FMTTYPE="image/jpeg":http://storage.ning.com/topology/rest/1.0/
 file/get/2247868814?profile=original
ATTENDEE;ROLE=REQ-PARTICIPANT;PARTSTAT=ACCEPTED;RSVP=TRUE;CN="DJ Be Br
 own":https://trueskool.com/profile/DJBeBrown
END:VEVENT
END:VCALENDAR
