BEGIN:VCALENDAR
PRODID:NingEventWidget-v1
VERSION:2.0
METHOD:PUBLISH
BEGIN:VTIMEZONE
TZID:America/Los_Angeles
X-LIC-LOCATION:America/Los_Angeles
BEGIN:DAYLIGHT
TZOFFSETFROM:-0800
TZOFFSETTO:-0700
TZNAME:PDT
DTSTART:19700308T020000
RRULE:FREQ=YEARLY;BYMONTH=3;BYDAY=2SU
END:DAYLIGHT
BEGIN:STANDARD
TZOFFSETFROM:-0700
TZOFFSETTO:-0800
TZNAME:PST
DTSTART:19701101T020000
RRULE:FREQ=YEARLY;BYMONTH=11;BYDAY=1SU
END:STANDARD
END:VTIMEZONE
BEGIN:VEVENT
UID:1464587:Event:301584
DTSTAMP:20260420T225129Z
SUMMARY:[The Peace Rally Tour] - Feat. Alias John Brown + Vince Price 
 + The Homey Nolte + TreuOne & More @ La Pena Cultural Center, Berkeley
  (Friday, 2/7)
DESCRIPTION:Â \n\nÂ \nÂ \n\nFriday, Feb 7\nGlobal Touring AgencyÂ Pres
 ents #ThePeaceRallyTourÂ \nAlias John Brown + Vince Price + The Homey 
 Nolte + TreuOne & MoreÂ \n The Peace Rally Tour. Hip Hop/ Rap as well 
 as it's live performance is a proven platform to bridge the gaps and f
 ill the voids in all social, economical, political and civil rights as
 pects.  The Goal is to help bring Peace to the Communities around the 
 world with HipHop!\n\n\n\n\nÂ \nÂ \n\nÂ \nLa Pena Cultural Center â€¢Â
  BerkeleyÂ â€¢ 3105 Shattuck aveÂ â€¢ All Ages + MatureÂ \nAdvanced Ti
 cketsÂ -Â http://ow.ly/soWGB\n\n\nFor more information visit https://t
 rueskool.com/events/the-peace-rally-tour
DTSTART;TZID=America/Los_Angeles:20140207T203000
DTEND;TZID=America/Los_Angeles:20140207T233000
CATEGORIES:"hip hop", "show case", "bay area", "alias john brown", ber
 keley, "la pena cultural center", "vince price", "the homey nolte", tr
 euone, unseen, pryceless, "dj vision iron god"
LOCATION:La Pena Cultural Center, Berkeley, CA
WEBSITE:http://ow.ly/soWGB
URL:http://ow.ly/soWGB
CONTACT:
ORGANIZER;CN="John Brilliant Brown":https://trueskool.com/profile/John
 BrilliantBrown
ATTACH;FMTTYPE="image/jpeg":http://storage.ning.com/topology/rest/1.0/
 file/get/2068663696?profile=original
ATTENDEE;ROLE=REQ-PARTICIPANT;PARTSTAT=ACCEPTED;RSVP=TRUE;CN="John Bri
 lliant Brown":https://trueskool.com/profile/JohnBrilliantBrown
END:VEVENT
END:VCALENDAR
