BEGIN:VCALENDAR
PRODID:NingEventWidget-v1
VERSION:2.0
METHOD:PUBLISH
BEGIN:VTIMEZONE
TZID:America/Los_Angeles
X-LIC-LOCATION:America/Los_Angeles
BEGIN:DAYLIGHT
TZOFFSETFROM:-0800
TZOFFSETTO:-0700
TZNAME:PDT
DTSTART:19700308T020000
RRULE:FREQ=YEARLY;BYMONTH=3;BYDAY=2SU
END:DAYLIGHT
BEGIN:STANDARD
TZOFFSETFROM:-0700
TZOFFSETTO:-0800
TZNAME:PST
DTSTART:19701101T020000
RRULE:FREQ=YEARLY;BYMONTH=11;BYDAY=1SU
END:STANDARD
END:VTIMEZONE
BEGIN:VEVENT
UID:1464587:Event:30613
DTSTAMP:20260420T193550Z
SUMMARY:The Other Side of Smile
DESCRIPTION:OnSix Gallery Presents:\nThe Other Side Of Smile\nFeaturin
 g Work by:\nJohn Felix Arnold III\nChristopher Burch\nStan Chisholm\nC
 orey D\nGreedy Genius Shoes\nRyan Hendon\nRyan Johnson\nRicardo Richey
 \nVito Money aka Black Spade (Deluxe Raggedy Clothing/OM Recording Art
 ist)\nJustin Tolentino\nRyan Verzaal\nBryan Walsh\nShawn Webber\nSri W
 hipple\nPeat Wollaeger\n\nFeatured Musicians:\nAima the Dreamer\nSJ Dv
 inity\nDJ IMpekabl\n\n\nPrice $5\nTime 8pm-130am\nMusic ...\n\nFor mor
 e information visit https://trueskool.com/events/the-other-side-of-smi
 le
DTSTART;TZID=America/Los_Angeles:20090425T200000
DTEND;TZID=America/Los_Angeles:20090426T020000
CATEGORIES:hip, hop, house
LOCATION:Club Six, San Francisco, CA
WEBSITE:http://www.clubsix1.com
URL:http://www.clubsix1.com
CONTACT:415-531-6593
ORGANIZER:Angel
ATTACH;FMTTYPE="image/jpeg":http://storage.ning.com/topology/rest/1.0/
 file/get/2247856517?profile=original
ATTENDEE;ROLE=REQ-PARTICIPANT;PARTSTAT=ACCEPTED;RSVP=TRUE;CN=Cecily:ht
 tps://trueskool.com/profile/Cecily
END:VEVENT
END:VCALENDAR
