BEGIN:VCALENDAR
PRODID:NingEventWidget-v1
VERSION:2.0
METHOD:PUBLISH
BEGIN:VTIMEZONE
TZID:America/Los_Angeles
X-LIC-LOCATION:America/Los_Angeles
BEGIN:DAYLIGHT
TZOFFSETFROM:-0800
TZOFFSETTO:-0700
TZNAME:PDT
DTSTART:19700308T020000
RRULE:FREQ=YEARLY;BYMONTH=3;BYDAY=2SU
END:DAYLIGHT
BEGIN:STANDARD
TZOFFSETFROM:-0700
TZOFFSETTO:-0800
TZNAME:PST
DTSTART:19701101T020000
RRULE:FREQ=YEARLY;BYMONTH=11;BYDAY=1SU
END:STANDARD
END:VTIMEZONE
BEGIN:VEVENT
UID:1464587:Event:228238
DTSTAMP:20260421T185007Z
SUMMARY:The Original Wailers (NYC)
DESCRIPTION:\nB.B. King Blues Club and GrillNew York, NY 07:30 PM\n\n
 The Original Wailers\nFind Tickets »\n\n\n\n\nFor more information v
 isit https://trueskool.com/events/the-original-wailers-1
DTSTART;TZID=America/Los_Angeles:20130817T193000
DTEND;TZID=America/Los_Angeles:20130817T230000
CATEGORIES:"new york", nyc
LOCATION:B.B. King Blues Club and Grill, New York, NY
WEBSITE:http://www.ticketmaster.com/the-original-wailers-new-york-new-
 york-08-17-2013/event/00004A67EB76621F?artistid=1257824&majorcatid=100
 01&minorcatid=5
URL:http://www.ticketmaster.com/the-original-wailers-new-york-new-york
 -08-17-2013/event/00004A67EB76621F?artistid=1257824&majorcatid=10001&m
 inorcatid=5
CONTACT:
ORGANIZER;CN="Editor's Pick":https://trueskool.com/profile/RentheVinyl
 Archaeologist
ATTACH;FMTTYPE="image/jpeg":http://storage.ning.com/topology/rest/1.0/
 file/get/2247881762?profile=original
ATTENDEE;ROLE=REQ-PARTICIPANT;PARTSTAT=ACCEPTED;RSVP=TRUE;CN="Editor's
  Pick":https://trueskool.com/profile/RentheVinylArchaeologist
END:VEVENT
END:VCALENDAR
