BEGIN:VCALENDAR
PRODID:NingEventWidget-v1
VERSION:2.0
METHOD:PUBLISH
BEGIN:VTIMEZONE
TZID:America/Los_Angeles
X-LIC-LOCATION:America/Los_Angeles
BEGIN:DAYLIGHT
TZOFFSETFROM:-0800
TZOFFSETTO:-0700
TZNAME:PDT
DTSTART:19700308T020000
RRULE:FREQ=YEARLY;BYMONTH=3;BYDAY=2SU
END:DAYLIGHT
BEGIN:STANDARD
TZOFFSETFROM:-0700
TZOFFSETTO:-0800
TZNAME:PST
DTSTART:19701101T020000
RRULE:FREQ=YEARLY;BYMONTH=11;BYDAY=1SU
END:STANDARD
END:VTIMEZONE
BEGIN:VEVENT
UID:1464587:Event:678634
DTSTAMP:20260421T125244Z
SUMMARY:THE ORB (WIN TICKETS)
DESCRIPTION:ENTER TO WIN A PAIR OF TICKETS. WINNER WILL BE DRAWN RANDO
 MLY AND ANNOUNCED 2 DAYS PRIOR TO EVENT.\r\n\r\n\r\n\r\nThursday, Nove
 mber 15, 2018\r\nTHE ORB\r\n  DF Tram\r\n\r\nThe Independent\r\n San F
 rancisco, CA\r\n Doors: 7:30pm | Show: 8:00pm\r\nThis event is 21 and 
 over.\r\n>> BUY TICKETS\r\n\r\n\r\n\n\nFor more information visit http
 s://trueskool.com/events/the-orb-1
DTSTART;TZID=America/Los_Angeles:20181115T200000
DTEND;TZID=America/Los_Angeles:20181115T230000
CATEGORIES:"bay area", oakland, "san francisco", "san jose", berkeley
LOCATION:The Independent, San Francisco
WEBSITE:https://www.ticketfly.com/purchase/event/1732802?q=09fac725-be
 32-4b31-a62d-0fe69f5d191a&amp;amp;p=a59952c9-9f9f-4a88-995d-8098be90c0
 3b&amp;amp;ts=1539117527&amp;amp;c=ticketfly&amp;amp;e=0010c&amp;amp;r
 t=Safetynet&amp;amp;h=629a74541302a7dde7288e9bda0f8729
URL:https://www.ticketfly.com/purchase/event/1732802?q=09fac725-be32-4
 b31-a62d-0fe69f5d191a&amp;amp;p=a59952c9-9f9f-4a88-995d-8098be90c03b&a
 mp;amp;ts=1539117527&amp;amp;c=ticketfly&amp;amp;e=0010c&amp;amp;rt=Sa
 fetynet&amp;amp;h=629a74541302a7dde7288e9bda0f8729
CONTACT:
ORGANIZER:Another Planet Ent
ATTACH;FMTTYPE="image/jpeg":http://storage.ning.com/topology/rest/1.0/
 file/get/2248011665?profile=original
ATTENDEE;ROLE=REQ-PARTICIPANT;PARTSTAT=ACCEPTED;RSVP=TRUE;CN="Editor's
  Pick":https://trueskool.com/profile/RentheVinylArchaeologist
END:VEVENT
END:VCALENDAR
