BEGIN:VCALENDAR
PRODID:NingEventWidget-v1
VERSION:2.0
METHOD:PUBLISH
BEGIN:VTIMEZONE
TZID:America/Los_Angeles
X-LIC-LOCATION:America/Los_Angeles
BEGIN:DAYLIGHT
TZOFFSETFROM:-0800
TZOFFSETTO:-0700
TZNAME:PDT
DTSTART:19700308T020000
RRULE:FREQ=YEARLY;BYMONTH=3;BYDAY=2SU
END:DAYLIGHT
BEGIN:STANDARD
TZOFFSETFROM:-0700
TZOFFSETTO:-0800
TZNAME:PST
DTSTART:19701101T020000
RRULE:FREQ=YEARLY;BYMONTH=11;BYDAY=1SU
END:STANDARD
END:VTIMEZONE
BEGIN:VEVENT
UID:1464587:Event:151936
DTSTAMP:20260421T231104Z
SUMMARY:The Ol Skool House Party ft. Mr Cheeks of The Lost Boyz
DESCRIPTION:\nOnce again we bring to the hottest party with LIVE enter
 tainment..The OL Skool House Party part VIfeaturing a LIVE performance
  by MR Cheeks of The Lost Boyzalso featuring Feel Good Party Music by
  The Original Dj's: Pos Red & Supreme Along with guest dj: CJ Flash 
 of 'The Rick & Russ Show'---------------------------------------------
 -----------------Saturday January 19th 2013Taking place inside Yoshi's
  SF 1330 Fillmore st 10pm DoorsGet Your Tickets NOW!!!http://www.airb
 ornetickets.com/------------------------------------------------------
 ----------This is a 21 & Over eventDress Code in Effect: No Hoodies, N
 o T-Shirts and No Team HatsThis is a STANDING room only Party and Show
 NO REFUNDS!!For Bottle Service Please Call: 415-655-5600\n\nFor more i
 nformation visit https://trueskool.com/events/the-ol-skool-house-party
 -ft-mr-cheeks-of-the-lost-boyz
DTSTART;TZID=America/Los_Angeles:20130119T220000
DTEND;TZID=America/Los_Angeles:20130120T020000
CATEGORIES:bay, area, california
LOCATION:Yoshi's San Francisco
WEBSITE:http://www.airbornetickets.com/index.php
URL:http://www.airbornetickets.com/index.php
CONTACT:
ORGANIZER;CN="Supabad Entertainment":https://trueskool.com/profile/Sup
 abadEnt
ATTACH;FMTTYPE="image/jpeg":http://storage.ning.com/topology/rest/1.0/
 file/get/2247930197?profile=original
ATTENDEE;ROLE=REQ-PARTICIPANT;PARTSTAT=ACCEPTED;RSVP=TRUE;CN="Alison B
 arros":https://trueskool.com/profile/AlisonBarros
ATTENDEE;ROLE=REQ-PARTICIPANT;PARTSTAT=ACCEPTED;RSVP=TRUE;CN=DaLYT:htt
 ps://trueskool.com/profile/DaLYT
ATTENDEE;ROLE=REQ-PARTICIPANT;PARTSTAT=ACCEPTED;RSVP=TRUE;CN="Supabad 
 Entertainment":https://trueskool.com/profile/SupabadEnt
END:VEVENT
END:VCALENDAR
