BEGIN:VCALENDAR
PRODID:NingEventWidget-v1
VERSION:2.0
METHOD:PUBLISH
BEGIN:VTIMEZONE
TZID:America/Los_Angeles
X-LIC-LOCATION:America/Los_Angeles
BEGIN:DAYLIGHT
TZOFFSETFROM:-0800
TZOFFSETTO:-0700
TZNAME:PDT
DTSTART:19700308T020000
RRULE:FREQ=YEARLY;BYMONTH=3;BYDAY=2SU
END:DAYLIGHT
BEGIN:STANDARD
TZOFFSETFROM:-0700
TZOFFSETTO:-0800
TZNAME:PST
DTSTART:19701101T020000
RRULE:FREQ=YEARLY;BYMONTH=11;BYDAY=1SU
END:STANDARD
END:VTIMEZONE
BEGIN:VEVENT
UID:1464587:Event:40985
DTSTAMP:20260422T195914Z
SUMMARY:The Official Badnb Lovevoltion Afterparty
DESCRIPTION:...\nThe Official BADNB Lovevoltion Afterparty\nTHE OFFICI
 AL BADNB LOVEVOLUTION AFTERPARTY PENDULUM DJ SET w/ MC VERSE (Breakbea
 t Kaos / Ram Records - UK)\n\nKJ SAWKA (Hospital Records / Violence Re
 cordings - Seattle)\nGRIDLOK (Project 51 / CIA - Los Angeles)\nBACHELO
 RS OF SCIENCE (Horizons Music / Phuzion Records - San Francisco)\nDANN
 Y THE WILDCHILD (Compression / Surge Recordings - Chicago)\nMETHOD ONE
  (Levitated Recordings / Still Doin' It - San Francisco)\n2 CENTS (Com
 pression / WODNB - San Francisco)\nMANEESH THE TWISTER (Surya Dub / Du
 b Mission - San Francisco)\nMOTION POTION (Homebreakin Records / motio
 npotion.com - San Francisco)\nHONEY KNUCKLES (Sanguine Soul - San Fran
 cisco)\nGROUND CONTROL (TRBL - San Francisco)\nCANADUB (Shetler / BADN
 B - San Francisco)\nESKAE (IN2IT / Primitive Science - San Francisco)\
 nFREYA (Hemisphere - San Francisco)\nGRACE (Primitive Science - San Fr
 ancisco)\nTHE HEIGHTS (Shelter - San Francisco)\nKODA (45 Amp Recordin
 gs - Oakland)\nLUKEINO (SubLife Recordings - San Francisco)\nSALOKIN (
 BADNB - San Francisco)\nSHARP (Compression - San Francisco)\nSIK (Stil
 l Doin' It - San Francisco)\nWAR//BREAKER (Shelter / IN2IT - San Franc
 isco)\n\nAUDIO ANGEL (Beatropolis / Rentadiva.info - Oakland)\nAXIOM M
 C (SubLife Recordings / Still Doin' It - San Francisco)\nCOLONEL MC (C
 ompression / WODNB - San Francisco)\nEMCEE CHILD (U.D.O.N / Bachelors 
 of Science - San Francisco)\nMC DUH (Shelter / Groundscore - San Franc
 isco)\n\n3 STAGES of Bay Area Drum & Bass!!!\nParty Begins immediately
  after LovEvolution ends.\n\n\nPrice Discount Presale tickets availabl
 e\n@ www.sunsetpromotions.net\nTime 9pm-2am\nMusic Drum & Bass\n\nFor 
 more information visit https://trueskool.com/events/the-official-badnb
 -lovevoltion
DTSTART;TZID=America/Los_Angeles:20091003T210000
DTEND;TZID=America/Los_Angeles:20091004T030000
CATEGORIES:drum, "&", bass
LOCATION:Club Six, San Francisco, CA
WEBSITE:http://www.clubsix1.com
URL:http://www.clubsix1.com
CONTACT:415-531-6593
ORGANIZER:Angel
ATTACH;FMTTYPE="image/jpeg":http://storage.ning.com/topology/rest/1.0/
 file/get/2247866762?profile=original
ATTENDEE;ROLE=REQ-PARTICIPANT;PARTSTAT=ACCEPTED;RSVP=TRUE;CN=Cecily:ht
 tps://trueskool.com/profile/Cecily
END:VEVENT
END:VCALENDAR
