BEGIN:VCALENDAR
PRODID:NingEventWidget-v1
VERSION:2.0
METHOD:PUBLISH
BEGIN:VTIMEZONE
TZID:America/Los_Angeles
X-LIC-LOCATION:America/Los_Angeles
BEGIN:DAYLIGHT
TZOFFSETFROM:-0800
TZOFFSETTO:-0700
TZNAME:PDT
DTSTART:19700308T020000
RRULE:FREQ=YEARLY;BYMONTH=3;BYDAY=2SU
END:DAYLIGHT
BEGIN:STANDARD
TZOFFSETFROM:-0700
TZOFFSETTO:-0800
TZNAME:PST
DTSTART:19701101T020000
RRULE:FREQ=YEARLY;BYMONTH=11;BYDAY=1SU
END:STANDARD
END:VTIMEZONE
BEGIN:VEVENT
UID:1464587:Event:30821
DTSTAMP:20260420T213351Z
SUMMARY:The Oakland Poetry Slam - FINALS!!!
DESCRIPTION:The Projectile Poetry Project proudly presents The 10th An
 nual Oakland poetry Slam Finals on April 30, 2009. Besides the superb 
 and spectacular poetic talent guaranteed to be on hand we also have fa
 ntastic DJs for your booty-shakin' & chillin' pleasure. There'll be ta
 sty vittles, live music and the dope dance party after the show with r
 esident DJs MR G & Agana and special guests.\n\nThe Oakland Poetry Sla
 m Finals\nThursday April 30th 2009\n8 - 11 Slam / 11 - 1:30 DJs\nThe O
 asis Restaurant & Bar\n135 12th St. @ Madison\n\nFor more information 
 visit https://trueskool.com/events/the-oakland-poetry-slam
DTSTART;TZID=America/Los_Angeles:20090430T200000
DTEND;TZID=America/Los_Angeles:20090501T010000
CATEGORIES:poetry, slam, "finals!!!", "w/", after-party, "(hip", hop, 
 dancehall, reggae, "r&b", old, school, funk, "house)"
LOCATION:The Oasis, Oakland
WEBSITE:http://maps.google.com/maps?client=safari&rls=en&q=135+12th+st
 +oakland,ca&oe=UTF-8&um=1&ie=UTF-8&split=0&gl=us&ei=auPgSdfpC528tgPIg8
 GzCQ&sa=X&oi=geocode_result&ct=title&resnum=1
URL:http://maps.google.com/maps?client=safari&rls=en&q=135+12th+st+oak
 land,ca&oe=UTF-8&um=1&ie=UTF-8&split=0&gl=us&ei=auPgSdfpC528tgPIg8GzCQ
 &sa=X&oi=geocode_result&ct=title&resnum=1
CONTACT:
ORGANIZER:The Projectile Poetry Project
ATTACH;FMTTYPE="image/jpeg":http://storage.ning.com/topology/rest/1.0/
 file/get/2247871079?profile=original
ATTENDEE;ROLE=REQ-PARTICIPANT;PARTSTAT=ACCEPTED;RSVP=TRUE;CN="Oakland 
 Slam":https://trueskool.com/profile/Dahled
END:VEVENT
END:VCALENDAR
