BEGIN:VCALENDAR
PRODID:NingEventWidget-v1
VERSION:2.0
METHOD:PUBLISH
BEGIN:VTIMEZONE
TZID:America/Los_Angeles
X-LIC-LOCATION:America/Los_Angeles
BEGIN:DAYLIGHT
TZOFFSETFROM:-0800
TZOFFSETTO:-0700
TZNAME:PDT
DTSTART:19700308T020000
RRULE:FREQ=YEARLY;BYMONTH=3;BYDAY=2SU
END:DAYLIGHT
BEGIN:STANDARD
TZOFFSETFROM:-0700
TZOFFSETTO:-0800
TZNAME:PST
DTSTART:19701101T020000
RRULE:FREQ=YEARLY;BYMONTH=11;BYDAY=1SU
END:STANDARD
END:VTIMEZONE
BEGIN:VEVENT
UID:1464587:Event:53266
DTSTAMP:20260420T200137Z
SUMMARY:The Oakland Poetry Slam FINALS!!
DESCRIPTION:The Projectile Poetry Project proudly presents the 11th An
 nual Oakland Poetry Slam FINALS on Thursday April 29th, 2010. This yea
 r's team will be hand picked BY YOU the audience at the East Bay's fre
 shest venue The New Parish in Oakland's bustling Uptown. Slam Selecta 
 DJ MR. G will scour the crates for the perfect aural accent while ever
 yone's favorite hostess, that dynamic diva Nazelah keeps the crowd cla
 pping, the show moving and everyone laughing.\n\nWe also have an extra
  special treat for you; not one but TWO spectacular features! On top o
 f the amazingly talented poets competing for a spot on this years team
  we have '04 Individual Champ / HBO Def Poet Sonya Renee AND Strange F
 amous recording artist / Prayers for Atheists front man Jared Paul!\n\
 nYou don't wanna miss this show, it's gonna be off the hook!\n\nThe 20
 10 Oakland Poetry Slam FINALS!\nThursday April 29th - 8:30\nThe New Pa
 rish (579 18th St)\n8:30 - 11:30\n$12 presale / $15 at the door\n\nFor
  more information visit https://trueskool.com/events/the-oakland-poetr
 y-slam-finals
DTSTART;TZID=America/Los_Angeles:20100429T200000
DTEND;TZID=America/Los_Angeles:20100429T233000
CATEGORIES:poetry, slam, hip-hop, classics, old, school, "r&b"
LOCATION:The New Parish, Oakland
WEBSITE:http://thenewparish.com
URL:http://thenewparish.com
CONTACT:
ORGANIZER;CN="Oakland Slam":https://trueskool.com/profile/Dahled
ATTACH;FMTTYPE="image/jpeg":http://storage.ning.com/topology/rest/1.0/
 file/get/2247876478?profile=original
ATTENDEE;ROLE=REQ-PARTICIPANT;PARTSTAT=ACCEPTED;RSVP=TRUE;CN="Oakland 
 Slam":https://trueskool.com/profile/Dahled
END:VEVENT
END:VCALENDAR
