BEGIN:VCALENDAR
PRODID:NingEventWidget-v1
VERSION:2.0
METHOD:PUBLISH
BEGIN:VTIMEZONE
TZID:America/Los_Angeles
X-LIC-LOCATION:America/Los_Angeles
BEGIN:DAYLIGHT
TZOFFSETFROM:-0800
TZOFFSETTO:-0700
TZNAME:PDT
DTSTART:19700308T020000
RRULE:FREQ=YEARLY;BYMONTH=3;BYDAY=2SU
END:DAYLIGHT
BEGIN:STANDARD
TZOFFSETFROM:-0700
TZOFFSETTO:-0800
TZNAME:PST
DTSTART:19701101T020000
RRULE:FREQ=YEARLY;BYMONTH=11;BYDAY=1SU
END:STANDARD
END:VTIMEZONE
BEGIN:VEVENT
UID:1464587:Event:664368
DTSTAMP:20260421T052041Z
SUMMARY:The Oâ€™Jays
DESCRIPTION: ENTER TO WIN A PAIR OF TICKETS. WINNER WILL BE DRAWN RAND
 OMLY AND ANNOUNCED 2 DAYS PRIOR TO EVENT.\r\n\r\n\r\nFRIDAY, JAN 12 Th
 e Oâ€™Jays\r\n\r\nFox Theater Oakland, CA\r\nShow: 8:00pm\r\n$89.75 â€
 “ Reserved Seating $69.75 â€“ Reserved Seating $49.75 â€“ Reserved Bal
 cony\r\n*plus applicable service fees\r\nTickets are also available se
 rvice charge free at The Fox Theaterâ€™s Box Office (located on the 19
 th street side of the theater) on show dates and on Fridays from noon 
 â€“ 7pm.\r\n\r\n\n\nFor more information visit https://trueskool.com/e
 vents/the-o-jaysthe-o-jays
DTSTART;TZID=America/Los_Angeles:20180112T200000
DTEND;TZID=America/Los_Angeles:20180112T230000
CATEGORIES:"san francisco", oakland, berkley, "san jose", "bay area"
LOCATION:Fox Theater, Oakland
WEBSITE:https://www.ticketmaster.com/event/1C0052C9CB746AE0?camefrom=C
 FC_ANOTHERPLANET_web&amp;brand=anotherplanet
URL:https://www.ticketmaster.com/event/1C0052C9CB746AE0?camefrom=CFC_A
 NOTHERPLANET_web&amp;brand=anotherplanet
CONTACT:
ORGANIZER:Another Planet Ent
ATTACH;FMTTYPE="image/jpeg":http://storage.ning.com/topology/rest/1.0/
 file/get/2247998270?profile=original
ATTENDEE;ROLE=REQ-PARTICIPANT;PARTSTAT=ACCEPTED;RSVP=TRUE;CN=Melissa:h
 ttps://trueskool.com/profile/Melissa
ATTENDEE;ROLE=REQ-PARTICIPANT;PARTSTAT=ACCEPTED;RSVP=TRUE;CN="Editor's
  Pick":https://trueskool.com/profile/RentheVinylArchaeologist
ATTENDEE;ROLE=REQ-PARTICIPANT;PARTSTAT=ACCEPTED;RSVP=TRUE;CN="Elisa Bj
 eldanes":https://trueskool.com/profile/ElisaBjeldanes
END:VEVENT
END:VCALENDAR
