BEGIN:VCALENDAR
PRODID:NingEventWidget-v1
VERSION:2.0
METHOD:PUBLISH
BEGIN:VTIMEZONE
TZID:America/Los_Angeles
X-LIC-LOCATION:America/Los_Angeles
BEGIN:DAYLIGHT
TZOFFSETFROM:-0800
TZOFFSETTO:-0700
TZNAME:PDT
DTSTART:19700308T020000
RRULE:FREQ=YEARLY;BYMONTH=3;BYDAY=2SU
END:DAYLIGHT
BEGIN:STANDARD
TZOFFSETFROM:-0700
TZOFFSETTO:-0800
TZNAME:PST
DTSTART:19701101T020000
RRULE:FREQ=YEARLY;BYMONTH=11;BYDAY=1SU
END:STANDARD
END:VTIMEZONE
BEGIN:VEVENT
UID:1464587:Event:463640
DTSTAMP:20260421T003044Z
SUMMARY:The New Moon Harvest
DESCRIPTION:UNIT E presents: THE NEW MOON... HARVEST A CELEBRATION OF
  LIFE We will be celebrating the harvest and new moon in GRAND form w
 ith amazing music, dancing, food, loads of laughter, libations and YOU
 ! Oakland's own Soul Siren, Jenn Johns will be on hand for an ALL THE
  WAY LIVE performance of new and old tunes sure to stir the spirits an
 d move the soul. Thobs the Zulu Queen and Taharka will add to the AF
 RO DIASPORIC vibration with power sounds, sights and words.... and you
  never know what amazing talents may come and bless the mic! Korise B
 igTunes Jubert aka DJ Big Tunes will be our guide as we journey into 
 the night. The best in rhythms from throughout the African Diaspora w
 ill keep the dance floor full and the walls SWEATING! Trust this will
  be a night not soon to be forgotten so be in attendance! FOR $10 DIS
 COUNT TICKETS https://www.eventbrite.com/e/the-new-moon-harvest-celeb
 ration-tickets-14167809299www.jennjohns.comsoundcloud.com/jennjohnswww
 .taharkatect.comwww.facebook.com/TheZuluQueen\n\nFor more information 
 visit https://trueskool.com/events/the-new-moon-harvest
DTSTART;TZID=America/Los_Angeles:20141122T210000
DTEND;TZID=America/Los_Angeles:20141123T010000
CATEGORIES:new, moon, harvest, celebration, dance
LOCATION:The Living Room Project
WEBSITE:https://www.eventbrite.com/e/the-new-moon-harvest-celebration-
 tickets-14167809299
URL:https://www.eventbrite.com/e/the-new-moon-harvest-celebration-tick
 ets-14167809299
CONTACT:5105006171
ORGANIZER:UNIT E
ATTACH;FMTTYPE="image/jpeg":http://storage.ning.com/topology/rest/1.0/
 file/get/2247971596?profile=original
ATTENDEE;ROLE=REQ-PARTICIPANT;PARTSTAT=ACCEPTED;RSVP=TRUE;CN="Khamall 
 Zawadi":https://trueskool.com/profile/KhamallZawadi
END:VEVENT
END:VCALENDAR
