BEGIN:VCALENDAR
PRODID:NingEventWidget-v1
VERSION:2.0
METHOD:PUBLISH
BEGIN:VTIMEZONE
TZID:America/Los_Angeles
X-LIC-LOCATION:America/Los_Angeles
BEGIN:DAYLIGHT
TZOFFSETFROM:-0800
TZOFFSETTO:-0700
TZNAME:PDT
DTSTART:19700308T020000
RRULE:FREQ=YEARLY;BYMONTH=3;BYDAY=2SU
END:DAYLIGHT
BEGIN:STANDARD
TZOFFSETFROM:-0700
TZOFFSETTO:-0800
TZNAME:PST
DTSTART:19701101T020000
RRULE:FREQ=YEARLY;BYMONTH=11;BYDAY=1SU
END:STANDARD
END:VTIMEZONE
BEGIN:VEVENT
UID:1464587:Event:63725
DTSTAMP:20260420T130630Z
SUMMARY:the microscopic giant
DESCRIPTION:Don't get it twisted, there will be an open mic!\n\nFeatur
 ed Writers:\nTracy Jones\nbucktoothmechanics.blogspot.com\nApril Wolfe
 \nSteven Gray\ntelepoetic.com\nCharlie Getter\n16thmission.com\nGlynn 
 Washington host of NPR's Snap Judgment\nsnapjudgment.org\n\nOriginal c
 ompositions and jam session by DigDug with live band\nmfborat.bandcamp
 .com\n\nLive Painting:\nAaron Lawrence\naaronlawrencedesigns.com\nNola
 n Yelonek\nnolanwhy.blogspot.com\n\nFor more information visit https:/
 /trueskool.com/events/the-microscopic-giant
DTSTART;TZID=America/Los_Angeles:20100824T200000
DTEND;TZID=America/Los_Angeles:20100824T220000
CATEGORIES:1141, polk, street, san, francisco, ca, 94109
LOCATION:Space Gallery, SF, CA
WEBSITE:http://www.bucktoothmechanics.blogspot.com
URL:http://www.bucktoothmechanics.blogspot.com
CONTACT:
ORGANIZER;CN=muggypython:https://trueskool.com/profile/muggypython
ATTACH;FMTTYPE="image/jpeg":http://storage.ning.com/topology/rest/1.0/
 file/get/2247883166?profile=original
ATTENDEE;ROLE=REQ-PARTICIPANT;PARTSTAT=ACCEPTED;RSVP=TRUE;CN=muggypyth
 on:https://trueskool.com/profile/muggypython
END:VEVENT
END:VCALENDAR
