BEGIN:VCALENDAR
PRODID:NingEventWidget-v1
VERSION:2.0
METHOD:PUBLISH
BEGIN:VTIMEZONE
TZID:America/Los_Angeles
X-LIC-LOCATION:America/Los_Angeles
BEGIN:DAYLIGHT
TZOFFSETFROM:-0800
TZOFFSETTO:-0700
TZNAME:PDT
DTSTART:19700308T020000
RRULE:FREQ=YEARLY;BYMONTH=3;BYDAY=2SU
END:DAYLIGHT
BEGIN:STANDARD
TZOFFSETFROM:-0700
TZOFFSETTO:-0800
TZNAME:PST
DTSTART:19701101T020000
RRULE:FREQ=YEARLY;BYMONTH=11;BYDAY=1SU
END:STANDARD
END:VTIMEZONE
BEGIN:VEVENT
UID:1464587:Event:666143
DTSTAMP:20260421T033012Z
SUMMARY:The Meters (CANCELLED)
DESCRIPTION:\r\n\r\n\r\nFriday, August 25, 2017-Saturday, August 26, 2
 017\r\nThe Meters with 7 come 11\r\n@ The Fillmore, San Francisco\r\nD
 oors 8:00 p.m. // Show 9:00 p.m. \r\nTickets are $77.50 plus applicabl
 e charges.\r\nBuy tickets for Friday show (8/25)\r\n\r\nBuy tickets fo
 r Saturday show (8/26)\r\n\n\nFor more information visit https://trues
 kool.com/events/the-meters-win-tickets
DTSTART;TZID=America/Los_Angeles:20170825T200000
DTEND;TZID=America/Los_Angeles:20170826T230000
CATEGORIES:"bay area", "san francisco"
LOCATION:The Fillmore, San Francisco
WEBSITE:http://www.ticketmaster.com/event/1C0052C8EC97A79B
URL:http://www.ticketmaster.com/event/1C0052C8EC97A79B
CONTACT:
ORGANIZER:Live Nation
ATTACH;FMTTYPE="image/jpeg":http://storage.ning.com/topology/rest/1.0/
 file/get/2248000463?profile=original
ATTENDEE;ROLE=REQ-PARTICIPANT;PARTSTAT=ACCEPTED;RSVP=TRUE;CN="Editor's
  Pick":https://trueskool.com/profile/RentheVinylArchaeologist
END:VEVENT
END:VCALENDAR
