BEGIN:VCALENDAR
PRODID:NingEventWidget-v1
VERSION:2.0
METHOD:PUBLISH
BEGIN:VTIMEZONE
TZID:America/Los_Angeles
X-LIC-LOCATION:America/Los_Angeles
BEGIN:DAYLIGHT
TZOFFSETFROM:-0800
TZOFFSETTO:-0700
TZNAME:PDT
DTSTART:19700308T020000
RRULE:FREQ=YEARLY;BYMONTH=3;BYDAY=2SU
END:DAYLIGHT
BEGIN:STANDARD
TZOFFSETFROM:-0700
TZOFFSETTO:-0800
TZNAME:PST
DTSTART:19701101T020000
RRULE:FREQ=YEARLY;BYMONTH=11;BYDAY=1SU
END:STANDARD
END:VTIMEZONE
BEGIN:VEVENT
UID:1464587:Event:64667
DTSTAMP:20260421T094759Z
SUMMARY:The Make-A-Darwish Tour w/ Dark Time Sunshine & Void Pedal
DESCRIPTION:The MAKE A DARWISH Tour featuring Dark Time Sunshine- Onry
  Ozzborn of OlDominion/Grayskul & Chicago Producer Zavala w/ Void Peda
 l, Old Ghost (Sac./SF), Dj Mpenzi (East Bay), Propaganda (LA), Bru Lei
  (Chicago/Sac.) w/ a solo set from Mic Jordan of Tribe of Levi (Sac.) 
 $8 b4 12 $10 after\n\nDownload their album BelieveYouMe for free then 
 come see them live Sept.16th @ Shattuck Down Low\nhttp://www.fakefouri
 nc.com/believeyoume/\n\nFor more information visit https://trueskool.c
 om/events/the-makeadarwish-tour-w-dark
DTSTART;TZID=America/Los_Angeles:20100916T210000
DTEND;TZID=America/Los_Angeles:20100917T020000
CATEGORIES:berkeley, ca
LOCATION:The Shattuck Downlow
WEBSITE:http://www.facebook.com/#!/shattuckdownlow
URL:http://www.facebook.com/#!/shattuckdownlow
CONTACT:(510) 548-1159
ORGANIZER:Old Ghost & Dj Mpenzi
ATTACH;FMTTYPE="image/jpeg":http://storage.ning.com/topology/rest/1.0/
 file/get/2247883694?profile=original
ATTENDEE;ROLE=REQ-PARTICIPANT;PARTSTAT=ACCEPTED;RSVP=TRUE;CN="Old Ghos
 t":https://trueskool.com/profile/OldGhost
END:VEVENT
END:VCALENDAR
