BEGIN:VCALENDAR
PRODID:NingEventWidget-v1
VERSION:2.0
METHOD:PUBLISH
BEGIN:VTIMEZONE
TZID:America/Los_Angeles
X-LIC-LOCATION:America/Los_Angeles
BEGIN:DAYLIGHT
TZOFFSETFROM:-0800
TZOFFSETTO:-0700
TZNAME:PDT
DTSTART:19700308T020000
RRULE:FREQ=YEARLY;BYMONTH=3;BYDAY=2SU
END:DAYLIGHT
BEGIN:STANDARD
TZOFFSETFROM:-0700
TZOFFSETTO:-0800
TZNAME:PST
DTSTART:19701101T020000
RRULE:FREQ=YEARLY;BYMONTH=11;BYDAY=1SU
END:STANDARD
END:VTIMEZONE
BEGIN:VEVENT
UID:1464587:Event:318118
DTSTAMP:20260421T004135Z
SUMMARY:The Lox (NYC)
DESCRIPTION:\nThe Lox\n\n\nDetails: The Lox, Action Bronson, French
  Montana,Funkmaster Flex\n\n\nBest Buy TheaterNew York, NY\n\nWed, 03
 /26/14  08:00 PM\n\nFind Tickets »\n\n\n\n\n\nFor more information 
 visit https://trueskool.com/events/the-lox-nyc
DTSTART;TZID=America/Los_Angeles:20140326T200000
DTEND;TZID=America/Los_Angeles:20140326T230000
CATEGORIES:nyc
LOCATION:Best Buy Theater, NY
WEBSITE:http://www.ticketmaster.com/The-Lox-tickets/artist/1217325
URL:http://www.ticketmaster.com/The-Lox-tickets/artist/1217325
CONTACT:
ORGANIZER;CN="Editor's Pick":https://trueskool.com/profile/RentheVinyl
 Archaeologist
ATTACH;FMTTYPE="image/jpeg":http://storage.ning.com/topology/rest/1.0/
 file/get/2247967310?profile=original
ATTENDEE;ROLE=REQ-PARTICIPANT;PARTSTAT=ACCEPTED;RSVP=TRUE;CN="Editor's
  Pick":https://trueskool.com/profile/RentheVinylArchaeologist
END:VEVENT
END:VCALENDAR
