BEGIN:VCALENDAR
PRODID:NingEventWidget-v1
VERSION:2.0
METHOD:PUBLISH
BEGIN:VTIMEZONE
TZID:America/Los_Angeles
X-LIC-LOCATION:America/Los_Angeles
BEGIN:DAYLIGHT
TZOFFSETFROM:-0800
TZOFFSETTO:-0700
TZNAME:PDT
DTSTART:19700308T020000
RRULE:FREQ=YEARLY;BYMONTH=3;BYDAY=2SU
END:DAYLIGHT
BEGIN:STANDARD
TZOFFSETFROM:-0700
TZOFFSETTO:-0800
TZNAME:PST
DTSTART:19701101T020000
RRULE:FREQ=YEARLY;BYMONTH=11;BYDAY=1SU
END:STANDARD
END:VTIMEZONE
BEGIN:VEVENT
UID:1464587:Event:82388
DTSTAMP:20260421T033051Z
SUMMARY:The Lonely Island @ Amoeba (Berkeley)
DESCRIPTION:The Lonely Island return to their hometown of Berkeley for
  a special event!  Meet Akiva, Andy and Jorma in person at Amoeba Ber
 keley this Saturday, April 16th.  The Dudes will host a Q&A answering
  fan-submitted questions, and after that will be sticking around to si
 gn stuff!\n \nHow to get in:\nBe among the first to preorder Turtlen
 eck & Chain (May 10th release date), at Amoeba Music in Berkeley.  U
 pon pre-ordering the album you will receive a wristband and limited ed
 ition silkscreened event poster.  Your wristband is your ticket to th
 e event.  One wristband per pre-order.\n \nEmail questions for The L
 onely Island to thelonelyisland@amoeba.com for possible inclusion at t
 heir Q&A!\n\n\n\nEvent Information\nSaturday April 16, 2011\n7:00 pm -
  10:00 pm\nAll Ages\n\nCover Notes: must pre-order the new album @ Am
 oeba Berkeley\n\n\nFor more information visit https://trueskool.com/ev
 ents/the-lonely-island-amoeba
DTSTART;TZID=America/Los_Angeles:20110416T190000
DTEND;TZID=America/Los_Angeles:20110416T220000
CATEGORIES:berkeley, ca
LOCATION:Amoeba Music, Berkeley, CA
WEBSITE:
URL:
CONTACT:510.549.1125
ORGANIZER:Amoeba (Berkeley)
ATTACH;FMTTYPE="image/jpeg":
ATTENDEE;ROLE=REQ-PARTICIPANT;PARTSTAT=ACCEPTED;RSVP=TRUE;CN="Josh Rem
 sberg":https://trueskool.com/profile/JoshRemsberg
END:VEVENT
END:VCALENDAR
