BEGIN:VCALENDAR
PRODID:NingEventWidget-v1
VERSION:2.0
METHOD:PUBLISH
BEGIN:VTIMEZONE
TZID:America/Los_Angeles
X-LIC-LOCATION:America/Los_Angeles
BEGIN:DAYLIGHT
TZOFFSETFROM:-0800
TZOFFSETTO:-0700
TZNAME:PDT
DTSTART:19700308T020000
RRULE:FREQ=YEARLY;BYMONTH=3;BYDAY=2SU
END:DAYLIGHT
BEGIN:STANDARD
TZOFFSETFROM:-0700
TZOFFSETTO:-0800
TZNAME:PST
DTSTART:19701101T020000
RRULE:FREQ=YEARLY;BYMONTH=11;BYDAY=1SU
END:STANDARD
END:VTIMEZONE
BEGIN:VEVENT
UID:1464587:Event:326972
DTSTAMP:20260421T040723Z
SUMMARY:The Kin play an all ages show at Bruno's in the mission
DESCRIPTION:San Francisco Bay Area—March 5, 2014\n \nOn Saturday, 
 March 22nd at Bruno’s in San Francisco, Party Corps will present M
 usic for Good, the 10th in the series, featuring New York-based, The K
 in in concert and in conversation with Global Glimpse, a nonprofit org
 anization working to inspire a new generation of young Americans to be
 come responsible global citizens.\n \nParty Corps’ Music for Good
 parties features a curated conversation between top local and interna
 tionally known musicians and representatives from grassroots nonprofit
  organizations.  Music lovers in attendance are given rare insight in
 to the issues their favorite artists are passionate about, while learn
 ing about and supporting the work of local, grassroots nonprofit organ
 izations. \"The Kin are artists with a global perspective and an infec
 tious sound: we're thrilled that they'll be sharing their music and th
 eir experiences all to benefit a group bringing life changing opportun
 ities to youth!” remarked Leila Monroe, Founder and Executive Direct
 or of Party Corps.\n \nFresh off US tour dates in support of Grammy-w
 inner P!nk and weeks after their live performance on late night televi
 sion show, Conan, The Kin are making a special stop in between dates i
 n Sacramento and Santa Cruz to participate in Party Corps’ Music for
  Good party. “We are excited to come back to SF and The Mission area
 , where they have worked in the studio with local musicians and produc
 ers, 'The Rondo Brothers. 'We are looking forward to giving back to th
 e local kids of the area with the help of Party Corps and Global Glimp
 se,\" Isaac said.  \"We love to musically rob high schools and give k
 ids something different to think about,\" Thorald added. \"We look for
 ward to growing our relationship with the charity.\"\n \nDoors open a
 t Bruno’s, located at 2389 Mission Street, at 7:00 pm, show starts
  at 8:00 pm. Tickets are $10 presale and can be purchased via Eventbr
 ite here. Proceeds from ticket sales will go to Global Glimpse.\n \n
 For more information about Party Corps please visit their website www
 .partycorps.org, follow them on Twitter  or like them on Facebook.
 \n\nFor more information visit https://trueskool.com/events/the-kin-pl
 ay-an-all-ages-show-at-bruno-s-in-the-mission
DTSTART;TZID=America/Los_Angeles:20140322T190000
DTEND;TZID=America/Los_Angeles:20140322T220000
CATEGORIES:"bruno's", nightclub, 2389, mission, "st.", san, francisco
LOCATION:Bruno's Nightclub, San Francisco, CA
WEBSITE:http://www.eventbrite.com/e/music-for-good-the-kin-global-glim
 pse-tickets-9992248083
URL:http://www.eventbrite.com/e/music-for-good-the-kin-global-glimpse-
 tickets-9992248083
CONTACT:
ORGANIZER;CN="Party Corps, Inc.":https://trueskool.com/profile/PartyCo
 rpsInc
ATTACH;FMTTYPE="image/jpeg":http://storage.ning.com/topology/rest/1.0/
 file/get/2247958048?profile=original
ATTENDEE;ROLE=REQ-PARTICIPANT;PARTSTAT=ACCEPTED;RSVP=TRUE;CN="Party Co
 rps, Inc.":https://trueskool.com/profile/PartyCorpsInc
END:VEVENT
END:VCALENDAR
