BEGIN:VCALENDAR
PRODID:NingEventWidget-v1
VERSION:2.0
METHOD:PUBLISH
BEGIN:VTIMEZONE
TZID:America/Los_Angeles
X-LIC-LOCATION:America/Los_Angeles
BEGIN:DAYLIGHT
TZOFFSETFROM:-0800
TZOFFSETTO:-0700
TZNAME:PDT
DTSTART:19700308T020000
RRULE:FREQ=YEARLY;BYMONTH=3;BYDAY=2SU
END:DAYLIGHT
BEGIN:STANDARD
TZOFFSETFROM:-0700
TZOFFSETTO:-0800
TZNAME:PST
DTSTART:19701101T020000
RRULE:FREQ=YEARLY;BYMONTH=11;BYDAY=1SU
END:STANDARD
END:VTIMEZONE
BEGIN:VEVENT
UID:1464587:Event:33423
DTSTAMP:20260423T053054Z
SUMMARY:The Jump Off
DESCRIPTION:The Jump Off\nLIVE from CHICAGO - Legendary DIZ is coming 
 to SF!!\n\nEveryone's feelin the strain on your wallets, these days\n-
  so we're giving you a break -\n\nSo come out, start your summer, forg
 et all your problems for one night, of House Music & Dancing ALL night
  long!!\n\nDiz (Chicago)\nHector Moralez (SF)\nOscar Miranda (SF)\nTre
 vor Vichas (Portland)\n\n\nPrice ONLY $5 Before 11pm!!\nTime 9pm-3am\n
 Music House\n\nFor more information visit https://trueskool.com/events
 /the-jump-off-3
DTSTART;TZID=America/Los_Angeles:20090620T210000
DTEND;TZID=America/Los_Angeles:20090621T030000
CATEGORIES:house
LOCATION:Club Six, San Francisco, CA
WEBSITE:http://www.clubsix1.com
URL:http://www.clubsix1.com
CONTACT:415-531-6593
ORGANIZER:Angel
ATTACH;FMTTYPE="image/jpeg":http://storage.ning.com/topology/rest/1.0/
 file/get/2247857719?profile=original
ATTENDEE;ROLE=REQ-PARTICIPANT;PARTSTAT=ACCEPTED;RSVP=TRUE;CN=Cecily:ht
 tps://trueskool.com/profile/Cecily
END:VEVENT
END:VCALENDAR
