BEGIN:VCALENDAR
PRODID:NingEventWidget-v1
VERSION:2.0
METHOD:PUBLISH
BEGIN:VTIMEZONE
TZID:America/Los_Angeles
X-LIC-LOCATION:America/Los_Angeles
BEGIN:DAYLIGHT
TZOFFSETFROM:-0800
TZOFFSETTO:-0700
TZNAME:PDT
DTSTART:19700308T020000
RRULE:FREQ=YEARLY;BYMONTH=3;BYDAY=2SU
END:DAYLIGHT
BEGIN:STANDARD
TZOFFSETFROM:-0700
TZOFFSETTO:-0800
TZNAME:PST
DTSTART:19701101T020000
RRULE:FREQ=YEARLY;BYMONTH=11;BYDAY=1SU
END:STANDARD
END:VTIMEZONE
BEGIN:VEVENT
UID:1464587:Event:466479
DTSTAMP:20260421T003613Z
SUMMARY:The Jam w/ Davey D (Hardknock Radio)
DESCRIPTION:\nSATURDAY NOV 22\nTrue Skool presents\nTHE JAM\nHip Hop C
 lassics, Remixes and More!\n\nOn the Wheels of Steel:\nDavey D (Hardkn
 ock KPFA)\n\n@ The Rock Steady, 1741 San Pablo Ave, Oakland\n21+ | 10p
 m-2am | FREE ALL NIGHT\n\n\nFor more information visit https://truesko
 ol.com/events/the-jam-w-davey-d-hardknock-radio
DTSTART;TZID=America/Los_Angeles:20141122T220000
DTEND;TZID=America/Los_Angeles:20141123T020000
CATEGORIES:"bay area", oakland
LOCATION:The Rock Steady, Oakland
WEBSITE:http://therock-steady.com/
URL:http://therock-steady.com/
CONTACT:
ORGANIZER:True Skool
ATTACH;FMTTYPE="image/jpeg":http://storage.ning.com/topology/rest/1.0/
 file/get/2059275327?profile=original
ATTENDEE;ROLE=REQ-PARTICIPANT;PARTSTAT=ACCEPTED;RSVP=TRUE;CN="Editor's
  Pick":https://trueskool.com/profile/RentheVinylArchaeologist
END:VEVENT
END:VCALENDAR
