BEGIN:VCALENDAR
PRODID:NingEventWidget-v1
VERSION:2.0
METHOD:PUBLISH
BEGIN:VTIMEZONE
TZID:America/Los_Angeles
X-LIC-LOCATION:America/Los_Angeles
BEGIN:DAYLIGHT
TZOFFSETFROM:-0800
TZOFFSETTO:-0700
TZNAME:PDT
DTSTART:19700308T020000
RRULE:FREQ=YEARLY;BYMONTH=3;BYDAY=2SU
END:DAYLIGHT
BEGIN:STANDARD
TZOFFSETFROM:-0700
TZOFFSETTO:-0800
TZNAME:PST
DTSTART:19701101T020000
RRULE:FREQ=YEARLY;BYMONTH=11;BYDAY=1SU
END:STANDARD
END:VTIMEZONE
BEGIN:VEVENT
UID:1464587:Event:445178
DTSTAMP:20260421T021354Z
SUMMARY:The Jam w/ Davey D (Hardknock Radio) & Ren the Vinyl Archaeolo
 gist
DESCRIPTION:\nSATURDAY OCT 25\nTrue Skool presents\nTHE JAM\nGolden Er
 a Hip Hop Classics\n\nOn the Wheels of Steel:\nDavey D (Hardknock KPFA
 )\nRen the Vinyl Archaeologist\n\n@ The Rock Steady, 1741 San Pablo Av
 e, Oakland\n21+ | 10pm-2am | FREE ALL NIGHT\n\n\nFor more information 
 visit https://trueskool.com/events/the-jam-w-davey-d-hardknock-radio-r
 en-the-vinyl-archaeologist-5
DTSTART;TZID=America/Los_Angeles:20141025T220000
DTEND;TZID=America/Los_Angeles:20141026T020000
CATEGORIES:"bay area", oakland
LOCATION:The Rock Steady, Oakland
WEBSITE:http://therock-steady.com/
URL:http://therock-steady.com/
CONTACT:
ORGANIZER:True Skool
ATTACH;FMTTYPE="image/jpeg":http://storage.ning.com/topology/rest/1.0/
 file/get/2059275327?profile=original
ATTENDEE;ROLE=REQ-PARTICIPANT;PARTSTAT=ACCEPTED;RSVP=TRUE;CN="Editor's
  Pick":https://trueskool.com/profile/RentheVinylArchaeologist
END:VEVENT
END:VCALENDAR
