BEGIN:VCALENDAR
PRODID:NingEventWidget-v1
VERSION:2.0
METHOD:PUBLISH
BEGIN:VTIMEZONE
TZID:America/Los_Angeles
X-LIC-LOCATION:America/Los_Angeles
BEGIN:DAYLIGHT
TZOFFSETFROM:-0800
TZOFFSETTO:-0700
TZNAME:PDT
DTSTART:19700308T020000
RRULE:FREQ=YEARLY;BYMONTH=3;BYDAY=2SU
END:DAYLIGHT
BEGIN:STANDARD
TZOFFSETFROM:-0700
TZOFFSETTO:-0800
TZNAME:PST
DTSTART:19701101T020000
RRULE:FREQ=YEARLY;BYMONTH=11;BYDAY=1SU
END:STANDARD
END:VTIMEZONE
BEGIN:VEVENT
UID:1464587:Event:162134
DTSTAMP:20260421T033745Z
SUMMARY:The Industry Music Mixer and Music Showcase
DESCRIPTION:\nThe Industry\nIndependent  Music Industry Mixer\n& Urba
 n Music Showcase\n1290 Fillmore St, San Francisco, CA\nWestbay Lounge 
 Across the street from Yoshi's\n\n\nFilm Producers, A & R's, Record La
 bels, Models, Distribution Companies, Singers, Rappers, Marketing Firm
 s Are invited to come and network\n​\nEmail for artist registration 
 & info @ hegpresents@live.com Performances start @ 9PM\n \n\nFor more
  information visit https://trueskool.com/events/the-industry-music-mix
 er-and-music-showcase
DTSTART;TZID=America/Los_Angeles:20130131T203000
DTEND;TZID=America/Los_Angeles:20130131T233000
CATEGORIES:san, francisco, ca
LOCATION:Westbay Lounge
WEBSITE:http://www.theindustry.eventbrite.com
URL:http://www.theindustry.eventbrite.com
CONTACT:415-724-9760
ORGANIZER;CN="H.E.G.Presents":https://trueskool.com/profile/HEGPresent
 s
ATTACH;FMTTYPE="image/jpeg":http://storage.ning.com/topology/rest/1.0/
 file/get/2247933276?profile=original
ATTENDEE;ROLE=REQ-PARTICIPANT;PARTSTAT=ACCEPTED;RSVP=TRUE;CN="H.E.G.Pr
 esents":https://trueskool.com/profile/HEGPresents
END:VEVENT
END:VCALENDAR
