BEGIN:VCALENDAR
PRODID:NingEventWidget-v1
VERSION:2.0
METHOD:PUBLISH
BEGIN:VTIMEZONE
TZID:America/Los_Angeles
X-LIC-LOCATION:America/Los_Angeles
BEGIN:DAYLIGHT
TZOFFSETFROM:-0800
TZOFFSETTO:-0700
TZNAME:PDT
DTSTART:19700308T020000
RRULE:FREQ=YEARLY;BYMONTH=3;BYDAY=2SU
END:DAYLIGHT
BEGIN:STANDARD
TZOFFSETFROM:-0700
TZOFFSETTO:-0800
TZNAME:PST
DTSTART:19701101T020000
RRULE:FREQ=YEARLY;BYMONTH=11;BYDAY=1SU
END:STANDARD
END:VTIMEZONE
BEGIN:VEVENT
UID:1464587:Event:37392
DTSTAMP:20260421T005615Z
SUMMARY:The Gurp Out
DESCRIPTION:In The Dark Room,\nTOPR, Gurp City, & Coconuts Ent. Presen
 t:\nThe Gurp Out\nEvery 3rd Thursday\n\nDelmon Crew\nRising Asterisk\n
 Caddalak Ron\nThe Great Muta\nBo-Rat\nEx-I & Roch\nAnimal Planet\nDee 
 Milly\n\nHosted By: Flossafee\nLive Painting, And DJ Fixxx\nw/ Special
  Guests On The 1s & 2s\n\n\nPrice $10\nTime 9pm-2am\nMusic Hip-Hop\n\n
 For more information visit https://trueskool.com/events/the-gurp-out-5
DTSTART;TZID=America/Los_Angeles:20090820T210000
DTEND;TZID=America/Los_Angeles:20090821T150000
CATEGORIES:hip, hop
LOCATION:Club Six, San Francisoc, CA
WEBSITE:http://www.clubsix1.com
URL:http://www.clubsix1.com
CONTACT:415-531-6593
ORGANIZER:Angel
ATTACH;FMTTYPE="image/jpeg":http://storage.ning.com/topology/rest/1.0/
 file/get/2247862028?profile=original
ATTENDEE;ROLE=REQ-PARTICIPANT;PARTSTAT=ACCEPTED;RSVP=TRUE;CN=Cecily:ht
 tps://trueskool.com/profile/Cecily
END:VEVENT
END:VCALENDAR
