BEGIN:VCALENDAR
PRODID:NingEventWidget-v1
VERSION:2.0
METHOD:PUBLISH
BEGIN:VTIMEZONE
TZID:America/Los_Angeles
X-LIC-LOCATION:America/Los_Angeles
BEGIN:DAYLIGHT
TZOFFSETFROM:-0800
TZOFFSETTO:-0700
TZNAME:PDT
DTSTART:19700308T020000
RRULE:FREQ=YEARLY;BYMONTH=3;BYDAY=2SU
END:DAYLIGHT
BEGIN:STANDARD
TZOFFSETFROM:-0700
TZOFFSETTO:-0800
TZNAME:PST
DTSTART:19701101T020000
RRULE:FREQ=YEARLY;BYMONTH=11;BYDAY=1SU
END:STANDARD
END:VTIMEZONE
BEGIN:VEVENT
UID:1464587:Event:310491
DTSTAMP:20260421T010125Z
SUMMARY:The Grouch & Eligh with Pigeon John, Madchild
DESCRIPTION:The Grouch & Eligh with Pigeon John, Madchild\nThursdayFeb
 ruary 20, 2014\n\nThursday, February 20, 2014\nDoors 7:00 p.m. // Show
  8:00 p.m.Tickets are $21.50 plus applicable charges.\n\n\n\nFor more 
 information visit https://trueskool.com/events/the-grouch-eligh-with-p
 igeon-john-madchild
DTSTART;TZID=America/Los_Angeles:20140220T200000
DTEND;TZID=America/Los_Angeles:20140220T230000
CATEGORIES:"bay area", "san francisco", "oakland\""
LOCATION:The Fillmore, San Francisco
WEBSITE:http://concerts.livenation.com/event/1C004C31B1DE6D3F
URL:http://concerts.livenation.com/event/1C004C31B1DE6D3F
CONTACT:
ORGANIZER;CN="Editor's Pick":https://trueskool.com/profile/RentheVinyl
 Archaeologist
ATTACH;FMTTYPE="image/jpeg":http://storage.ning.com/topology/rest/1.0/
 file/get/2247956399?profile=original
ATTENDEE;ROLE=REQ-PARTICIPANT;PARTSTAT=ACCEPTED;RSVP=TRUE;CN="Editor's
  Pick":https://trueskool.com/profile/RentheVinylArchaeologist
END:VEVENT
END:VCALENDAR
