BEGIN:VCALENDAR
PRODID:NingEventWidget-v1
VERSION:2.0
METHOD:PUBLISH
BEGIN:VTIMEZONE
TZID:America/Los_Angeles
X-LIC-LOCATION:America/Los_Angeles
BEGIN:DAYLIGHT
TZOFFSETFROM:-0800
TZOFFSETTO:-0700
TZNAME:PDT
DTSTART:19700308T020000
RRULE:FREQ=YEARLY;BYMONTH=3;BYDAY=2SU
END:DAYLIGHT
BEGIN:STANDARD
TZOFFSETFROM:-0700
TZOFFSETTO:-0800
TZNAME:PST
DTSTART:19701101T020000
RRULE:FREQ=YEARLY;BYMONTH=11;BYDAY=1SU
END:STANDARD
END:VTIMEZONE
BEGIN:VEVENT
UID:1464587:Event:673462
DTSTAMP:20260421T034416Z
SUMMARY:THE GREYBOY ALLSTARS
DESCRIPTION:THE GREYBOY ALLSTARS\r\nwith The Mike Dillon Band\r\nThurs
 day, March 15, 2018 Doors: 7:00PM |Show: 8:00PM 859 O'Farrell St.\r\nS
 an Francisco, CA 94109 415-885-0750 GREAT AMERICAN MUSIC HALL\r\n\n\nF
 or more information visit https://trueskool.com/events/the-greyboy-all
 stars-1
DTSTART;TZID=America/Los_Angeles:20180315T200000
DTEND;TZID=America/Los_Angeles:20180315T230000
CATEGORIES:"bay area", oakland, "san francisco", "san jose", berkeley
LOCATION:GREAT AMERICAN MUSIC HALL, SF
WEBSITE:https://www.eventbrite.com/e/the-greyboy-allstars-thursday-gam
 h-w-mike-dillon-band-tickets-42258892485
URL:https://www.eventbrite.com/e/the-greyboy-allstars-thursday-gamh-w-
 mike-dillon-band-tickets-42258892485
CONTACT:
ORGANIZER;CN="Editor's Pick":https://trueskool.com/profile/RentheVinyl
 Archaeologist
ATTACH;FMTTYPE="image/jpeg":http://storage.ning.com/topology/rest/1.0/
 file/get/2248005845?profile=original
ATTENDEE;ROLE=REQ-PARTICIPANT;PARTSTAT=ACCEPTED;RSVP=TRUE;CN="Editor's
  Pick":https://trueskool.com/profile/RentheVinylArchaeologist
END:VEVENT
END:VCALENDAR
