BEGIN:VCALENDAR
PRODID:NingEventWidget-v1
VERSION:2.0
METHOD:PUBLISH
BEGIN:VTIMEZONE
TZID:America/Los_Angeles
X-LIC-LOCATION:America/Los_Angeles
BEGIN:DAYLIGHT
TZOFFSETFROM:-0800
TZOFFSETTO:-0700
TZNAME:PDT
DTSTART:19700308T020000
RRULE:FREQ=YEARLY;BYMONTH=3;BYDAY=2SU
END:DAYLIGHT
BEGIN:STANDARD
TZOFFSETFROM:-0700
TZOFFSETTO:-0800
TZNAME:PST
DTSTART:19701101T020000
RRULE:FREQ=YEARLY;BYMONTH=11;BYDAY=1SU
END:STANDARD
END:VTIMEZONE
BEGIN:VEVENT
UID:1464587:Event:40545
DTSTAMP:20260422T015054Z
SUMMARY:The Grease Traps this Sat. 9/12
DESCRIPTION:Oakland's own 7-piece funk unit, The Grease Traps, special
 ize in instrumental soul, deep funk and classic breaks. Catch them liv
 e this Sat. Sept. 12th at the Boom Boom Room in SF.\n\nFor more inform
 ation visit https://trueskool.com/events/the-grease-traps-this-sat-912
DTSTART;TZID=America/Los_Angeles:20090912T213000
DTEND;TZID=America/Los_Angeles:20090913T020000
CATEGORIES:funk, soul, breaks, old, school
LOCATION:The Boom Boom Room, San Francisco
WEBSITE:http://www.myspace.com/thegreasetraps
URL:http://www.myspace.com/thegreasetraps
CONTACT:
ORGANIZER:Sweet Kev
ATTACH;FMTTYPE="image/jpeg":http://storage.ning.com/topology/rest/1.0/
 file/get/2247863641?profile=original
ATTENDEE;ROLE=REQ-PARTICIPANT;PARTSTAT=ACCEPTED;RSVP=TRUE;CN="Kevin O'
 Dea":https://trueskool.com/profile/KevinODea
END:VEVENT
END:VCALENDAR
