BEGIN:VCALENDAR
PRODID:NingEventWidget-v1
VERSION:2.0
METHOD:PUBLISH
BEGIN:VTIMEZONE
TZID:America/Los_Angeles
X-LIC-LOCATION:America/Los_Angeles
BEGIN:DAYLIGHT
TZOFFSETFROM:-0800
TZOFFSETTO:-0700
TZNAME:PDT
DTSTART:19700308T020000
RRULE:FREQ=YEARLY;BYMONTH=3;BYDAY=2SU
END:DAYLIGHT
BEGIN:STANDARD
TZOFFSETFROM:-0700
TZOFFSETTO:-0800
TZNAME:PST
DTSTART:19701101T020000
RRULE:FREQ=YEARLY;BYMONTH=11;BYDAY=1SU
END:STANDARD
END:VTIMEZONE
BEGIN:VEVENT
UID:1464587:Event:667702
DTSTAMP:20260422T032521Z
SUMMARY:The Generations Party
DESCRIPTION:\r\nFRIDAY, SEP 29 The Generations PartyFour DJs. Four Dec
 ades.\r\n\r\nSpecial Guests:\r\nRen the Vinyl Archaeologist Lexx Jones
  Apollo\r\n\r\nResident DJ: Franchise\r\n\r\n@ Somar, 1727 Telegraph A
 ve., Oakland Cover is $5, free before 11pm. \n\nFor more information
  visit https://trueskool.com/events/the-generations-party
DTSTART;TZID=America/Los_Angeles:20170929T210000
DTEND;TZID=America/Los_Angeles:20170930T020000
CATEGORIES:"bay area", oakland
LOCATION:Somar, Oakland
WEBSITE:
URL:
CONTACT:
ORGANIZER;CN="Editor's Pick":https://trueskool.com/profile/RentheVinyl
 Archaeologist
ATTACH;FMTTYPE="image/jpeg":http://storage.ning.com/topology/rest/1.0/
 file/get/2248001399?profile=original
ATTENDEE;ROLE=REQ-PARTICIPANT;PARTSTAT=ACCEPTED;RSVP=TRUE;CN="Editor's
  Pick":https://trueskool.com/profile/RentheVinylArchaeologist
END:VEVENT
END:VCALENDAR
