BEGIN:VCALENDAR
PRODID:NingEventWidget-v1
VERSION:2.0
METHOD:PUBLISH
BEGIN:VTIMEZONE
TZID:America/Los_Angeles
X-LIC-LOCATION:America/Los_Angeles
BEGIN:DAYLIGHT
TZOFFSETFROM:-0800
TZOFFSETTO:-0700
TZNAME:PDT
DTSTART:19700308T020000
RRULE:FREQ=YEARLY;BYMONTH=3;BYDAY=2SU
END:DAYLIGHT
BEGIN:STANDARD
TZOFFSETFROM:-0700
TZOFFSETTO:-0800
TZNAME:PST
DTSTART:19701101T020000
RRULE:FREQ=YEARLY;BYMONTH=11;BYDAY=1SU
END:STANDARD
END:VTIMEZONE
BEGIN:VEVENT
UID:1464587:Event:33686
DTSTAMP:20260422T082359Z
SUMMARY:The GEMINI Party
DESCRIPTION:Friday June 12th\nThe GEMINI Party\nThe Room Ultra Lounge 
 101 6th Street @ Mission SF\n\nSEXY HIP HOP & R&B\nALL JUNE/GEMINI BDA
 YS FREE!!\nTEXT 510.593.9654 FOR GUEST LIST BIRTHDAYS TABLES BOTTLE SE
 RVICE DIRECTIONS OR IF YOU HAVE ANY QUESTIONS\n\nFor more information 
 visit https://trueskool.com/events/the-gemini-party
DTSTART;TZID=America/Los_Angeles:20090612T220000
DTEND;TZID=America/Los_Angeles:20090613T140000
CATEGORIES:hip, hop, dancehall, reggae, "r&b", old, school, funk
LOCATION:The Room Ultra Lounge SF CA
WEBSITE:http://bayareabreedzent.com
URL:http://bayareabreedzent.com
CONTACT:510 593 9654
ORGANIZER;CN="Miss Tina Bay Area Breedz":https://trueskool.com/profile
 /MissTinaBayAreaBreedz
ATTACH;FMTTYPE="image/jpeg":http://storage.ning.com/topology/rest/1.0/
 file/get/2247857694?profile=original
ATTENDEE;ROLE=REQ-PARTICIPANT;PARTSTAT=ACCEPTED;RSVP=TRUE;CN="Miss Tin
 a Bay Area Breedz":https://trueskool.com/profile/MissTinaBayAreaBreedz
END:VEVENT
END:VCALENDAR
