BEGIN:VCALENDAR
PRODID:NingEventWidget-v1
VERSION:2.0
METHOD:PUBLISH
BEGIN:VTIMEZONE
TZID:America/Los_Angeles
X-LIC-LOCATION:America/Los_Angeles
BEGIN:DAYLIGHT
TZOFFSETFROM:-0800
TZOFFSETTO:-0700
TZNAME:PDT
DTSTART:19700308T020000
RRULE:FREQ=YEARLY;BYMONTH=3;BYDAY=2SU
END:DAYLIGHT
BEGIN:STANDARD
TZOFFSETFROM:-0700
TZOFFSETTO:-0800
TZNAME:PST
DTSTART:19701101T020000
RRULE:FREQ=YEARLY;BYMONTH=11;BYDAY=1SU
END:STANDARD
END:VTIMEZONE
BEGIN:VEVENT
UID:1464587:Event:42437
DTSTAMP:20260421T093454Z
SUMMARY:The Future003 w/DAEDELUS, JAMES PANTS & Free the Robots
DESCRIPTION:FRI NOV 13\nblasthaus presents\nTHE FUTURE OO3 w/\n\nDAEDE
 LUS (Live)\nJAMES PANTS (Live)\nFREE THE ROBOTS (Live)\n\n103 Harriet 
 / SF / 21+ / 10P Doors / $12 Adv\nhttp://www.blasthaus.com\n\nIt's tim
 e to get back to the future. Our third installation takes you ther wit
 h DAEDELUS returning to SF in top form after a hugely successful tour 
 earlier this year. His high-energy and eclectic one-man live beat prog
 raming show and multiple releases on Ninja Tune, Mush, Plug Research a
 nd other labels has created quite a stir. This November, Stones Throw 
 Records in collaboration with Dublab will be releasing the \"Secondhan
 d Sureshots\" DVD which highlights Daedelus' live performances. JAMES 
 PANTS enters stage left. The purveyor par-excellence of that unmistaka
 ble \"Fresh Beat\": 80's Soul, Electro Boogie, Early Rap, New Wave, & 
 Post-Punk Disco, Pants has been rockin' His legendary DJ sets are trul
 y \"party-rocking\", mashing up everything from Synth-Pop to Dirty Sou
 th Crunk to New Wave Disco to Electro-Funk and back again. James' 2nd 
 full length \"Seven Seals\" will be released in November of 2009 on St
 ones Throw Records. FREE THE ROBOTS is the genre-defying artist Chris 
 Alfaro who pulls together heavy doses of traditional jazz, Psych, Elec
 tronic, Hip Hop, with progressive melodies and devastating drums into 
 the future of sound. Synch yourself up for the next timewarp on the da
 ncefloor!\n\nFor more information visit https://trueskool.com/events/t
 he-future003-wdaedelus-james
DTSTART;TZID=America/Los_Angeles:20091113T220000
DTEND;TZID=America/Los_Angeles:20091114T030000
CATEGORIES:hip, hop, dubstep, old, school, funk, house, electro, 80s
LOCATION:103 Harriet
WEBSITE:http://www.blasthaus.com
URL:http://www.blasthaus.com
CONTACT:
ORGANIZER;CN=blasthaus:https://trueskool.com/profile/blasthaus
ATTACH;FMTTYPE="image/jpeg":http://storage.ning.com/topology/rest/1.0/
 file/get/2247867441?profile=original
ATTENDEE;ROLE=REQ-PARTICIPANT;PARTSTAT=ACCEPTED;RSVP=TRUE;CN=blasthaus
 :https://trueskool.com/profile/blasthaus
END:VEVENT
END:VCALENDAR
