BEGIN:VCALENDAR
PRODID:NingEventWidget-v1
VERSION:2.0
METHOD:PUBLISH
BEGIN:VTIMEZONE
TZID:America/Los_Angeles
X-LIC-LOCATION:America/Los_Angeles
BEGIN:DAYLIGHT
TZOFFSETFROM:-0800
TZOFFSETTO:-0700
TZNAME:PDT
DTSTART:19700308T020000
RRULE:FREQ=YEARLY;BYMONTH=3;BYDAY=2SU
END:DAYLIGHT
BEGIN:STANDARD
TZOFFSETFROM:-0700
TZOFFSETTO:-0800
TZNAME:PST
DTSTART:19701101T020000
RRULE:FREQ=YEARLY;BYMONTH=11;BYDAY=1SU
END:STANDARD
END:VTIMEZONE
BEGIN:VEVENT
UID:1464587:Event:26365
DTSTAMP:20260423T014313Z
SUMMARY:The Funky Rewind
DESCRIPTION:The Funky Rewind: A Step into Sound System Cuture\nFREE EV
 ERY THURSDAY NIGHT AT SKYLARK!\nTHE FUNKY REWIND is a step back into S
 ound System culture with heavy funk breaks, the early days of hip-hop,
  boogie and classic Jamaican riddims!\n\nMONTHLY RESIDENT DJs:\n\nb.ca
 use (4oneFunk, Groove Merchant)\n\nE Da Boss (OM Records, Slept on Rec
 ords)\n\nToph One (XLR8R, Red Wine)\n\nWEEKLY HOST DJs:\n\nMAKossa (Th
 e Realness, Spliff Sessions)\n\nKung Fu Chris (Raw Deluxe, Fo Sho! Fri
 days)\n\nSTARTS THIS THURSDAY FEB. 5TH WITH DJ B.CAUSE!!!\nSkylark\n30
 89 16th St.\n(16th and Valencia)\n\nFor more information visit https:/
 /trueskool.com/events/the-funky-rewind
DTSTART;TZID=America/Los_Angeles:20090205T210000
DTEND;TZID=America/Los_Angeles:20090206T020000
CATEGORIES:hip-hop, funk, djs, dancing, drink, specials, club, thursda
 y, night, weekly, party, sound, system, old, school, jamaican
LOCATION:Skylark
WEBSITE:http://www.skylarkbar.com/
URL:http://www.skylarkbar.com/
CONTACT:
ORGANIZER;CN="kung fu chris":https://trueskool.com/profile/kungfuchris
ATTACH;FMTTYPE="image/jpeg":http://storage.ning.com/topology/rest/1.0/
 file/get/2247854860?profile=original
ATTENDEE;ROLE=REQ-PARTICIPANT;PARTSTAT=ACCEPTED;RSVP=TRUE;CN="kung fu 
 chris":https://trueskool.com/profile/kungfuchris
END:VEVENT
END:VCALENDAR
