BEGIN:VCALENDAR
PRODID:NingEventWidget-v1
VERSION:2.0
METHOD:PUBLISH
BEGIN:VTIMEZONE
TZID:America/Los_Angeles
X-LIC-LOCATION:America/Los_Angeles
BEGIN:DAYLIGHT
TZOFFSETFROM:-0800
TZOFFSETTO:-0700
TZNAME:PDT
DTSTART:19700308T020000
RRULE:FREQ=YEARLY;BYMONTH=3;BYDAY=2SU
END:DAYLIGHT
BEGIN:STANDARD
TZOFFSETFROM:-0700
TZOFFSETTO:-0800
TZNAME:PST
DTSTART:19701101T020000
RRULE:FREQ=YEARLY;BYMONTH=11;BYDAY=1SU
END:STANDARD
END:VTIMEZONE
BEGIN:VEVENT
UID:1464587:Event:50677
DTSTAMP:20260420T225259Z
SUMMARY:The Funky Rewind w/ special guest B Cause (4onefunk)
DESCRIPTION:THE FUNKY REWIND is a step back into sound system culture 
 exploring heavy funk breaks, the early days of hip-hop, boogie and cla
 ssic Jamaican riddims!\n\nOver the past year The Funky Rewind party ha
 s brought you banging beats for your head. We've been fortunate to hav
 e many great DJ's throw down with us.... B Cause, E Da Boss, Toph One,
  Aspect McCarthy, Om, Noel, Teeko, King Most, J1, DJ Expo and more.\n\
 nCome check out the Funky Rewind at the new spot... Showdown!\n\nHoste
 d by:\nMAKossa (AFREAKA!, The Realness) & Kung Fu Chris (Raw Deluxe, F
 o' Sho! Fridays)\n\nFor more information visit https://trueskool.com/e
 vents/the-funky-rewind-w-special-7
DTSTART;TZID=America/Los_Angeles:20100403T210000
DTEND;TZID=America/Los_Angeles:20100404T020000
CATEGORIES:hip-hop, funk, soul, boogie, old, school, go-go, rare-groov
 e, dancehall, "r&b"
LOCATION:Showdown
WEBSITE:http://showdownsf.com/
URL:http://showdownsf.com/
CONTACT:
ORGANIZER;CN="kung fu chris":https://trueskool.com/profile/kungfuchris
ATTACH;FMTTYPE="image/jpeg":http://storage.ning.com/topology/rest/1.0/
 file/get/2247874235?profile=original
ATTENDEE;ROLE=REQ-PARTICIPANT;PARTSTAT=ACCEPTED;RSVP=TRUE;CN="kung fu 
 chris":https://trueskool.com/profile/kungfuchris
END:VEVENT
END:VCALENDAR
