BEGIN:VCALENDAR
PRODID:NingEventWidget-v1
VERSION:2.0
METHOD:PUBLISH
BEGIN:VTIMEZONE
TZID:America/Los_Angeles
X-LIC-LOCATION:America/Los_Angeles
BEGIN:DAYLIGHT
TZOFFSETFROM:-0800
TZOFFSETTO:-0700
TZNAME:PDT
DTSTART:19700308T020000
RRULE:FREQ=YEARLY;BYMONTH=3;BYDAY=2SU
END:DAYLIGHT
BEGIN:STANDARD
TZOFFSETFROM:-0700
TZOFFSETTO:-0800
TZNAME:PST
DTSTART:19701101T020000
RRULE:FREQ=YEARLY;BYMONTH=11;BYDAY=1SU
END:STANDARD
END:VTIMEZONE
BEGIN:VEVENT
UID:1464587:Event:32041
DTSTAMP:20260420T180927Z
SUMMARY:The Funky Rewind w/ special guest E Da Boss (om records/slept 
 on)
DESCRIPTION:THE FUNKY REWIND is a step back into sound system culture 
 with heavy funk breaks, the early days of hip-hop, boogie and classic 
 Jamaican riddims!\nMonthly rotating guest DJs:\n \nb.cause (4oneFunk,
  Groove Merchant)\n \nE Da Boss (OM Records, Slept On Records)\n \nT
 oph One (XLR8R, Red Wine Social)\n \nAND SPECIAL GUESTS!!!\n \nHoste
 d each week by:\n \nKung Fu Chris (Raw Deluxe, Fo Sho! Fridays)\n \n
 MAKossa (AFREAKA!, The Realness)\n \nSKYLARK\n3089 16TH ST.\n(16TH AN
 D VALENCIA)\n\nFor more information visit https://trueskool.com/events
 /the-funky-rewind-w-special-6
DTSTART;TZID=America/Los_Angeles:20090528T210000
DTEND;TZID=America/Los_Angeles:20090529T020000
CATEGORIES:hip-hop, funk, djs, dancing, drink, specials, club, thursda
 y, night, weekly, party, sound, system, old, school, jamaican
LOCATION:Skylark
WEBSITE:http://www.skylarkbar.com/
URL:http://www.skylarkbar.com/
CONTACT:
ORGANIZER;CN="kung fu chris":https://trueskool.com/profile/kungfuchris
ATTACH;FMTTYPE="image/jpeg":http://storage.ning.com/topology/rest/1.0/
 file/get/2247854394?profile=original
ATTENDEE;ROLE=REQ-PARTICIPANT;PARTSTAT=ACCEPTED;RSVP=TRUE;CN="kung fu 
 chris":https://trueskool.com/profile/kungfuchris
END:VEVENT
END:VCALENDAR
