BEGIN:VCALENDAR
PRODID:NingEventWidget-v1
VERSION:2.0
METHOD:PUBLISH
BEGIN:VTIMEZONE
TZID:America/Los_Angeles
X-LIC-LOCATION:America/Los_Angeles
BEGIN:DAYLIGHT
TZOFFSETFROM:-0800
TZOFFSETTO:-0700
TZNAME:PDT
DTSTART:19700308T020000
RRULE:FREQ=YEARLY;BYMONTH=3;BYDAY=2SU
END:DAYLIGHT
BEGIN:STANDARD
TZOFFSETFROM:-0700
TZOFFSETTO:-0800
TZNAME:PST
DTSTART:19701101T020000
RRULE:FREQ=YEARLY;BYMONTH=11;BYDAY=1SU
END:STANDARD
END:VTIMEZONE
BEGIN:VEVENT
UID:1464587:Event:37132
DTSTAMP:20260420T164357Z
SUMMARY:The Fringe vs Geurillabass Pimp our Art Carz
DESCRIPTION:The Fringe Vs Geurillabass\nPimp Our Art Carz\nThe Fringe 
 - Burning Man Janky Barge\nAbsurge\nDigital Rust\nMycho Cocoa\nVictor 
 Vega w/ Live Congas By Annette Musick\nD&D Music Factory: The Wizards 
 OF Baal T'Mohr\n(Ground Control Vs. Tim Dietz)\n\nGuerillabass - Lovev
 olution Float\nGhendo\nE. Wayne\nP-Dub\nRaydeus (Pronoaia)\n\n\n\nPric
 e $5 Builds Art Carz\n$10 Pimps Art Carz\nTime 9pm-3am\nMusic Electro,
  Dubstep, & Breaks\n\nFor more information visit https://trueskool.com
 /events/the-fringe-vs-geurillabass
DTSTART;TZID=America/Los_Angeles:20090807T210000
DTEND;TZID=America/Los_Angeles:20090808T150000
CATEGORIES:electro, dubstep, "&", breaks
LOCATION:Club Six
WEBSITE:http://www.clubsix1.com
URL:http://www.clubsix1.com
CONTACT:415-531-6593
ORGANIZER:Angel
ATTACH;FMTTYPE="image/jpeg":http://storage.ning.com/topology/rest/1.0/
 file/get/2247860643?profile=original
ATTENDEE;ROLE=REQ-PARTICIPANT;PARTSTAT=ACCEPTED;RSVP=TRUE;CN=Cecily:ht
 tps://trueskool.com/profile/Cecily
END:VEVENT
END:VCALENDAR
