BEGIN:VCALENDAR
PRODID:NingEventWidget-v1
VERSION:2.0
METHOD:PUBLISH
BEGIN:VTIMEZONE
TZID:America/Los_Angeles
X-LIC-LOCATION:America/Los_Angeles
BEGIN:DAYLIGHT
TZOFFSETFROM:-0800
TZOFFSETTO:-0700
TZNAME:PDT
DTSTART:19700308T020000
RRULE:FREQ=YEARLY;BYMONTH=3;BYDAY=2SU
END:DAYLIGHT
BEGIN:STANDARD
TZOFFSETFROM:-0700
TZOFFSETTO:-0800
TZNAME:PST
DTSTART:19701101T020000
RRULE:FREQ=YEARLY;BYMONTH=11;BYDAY=1SU
END:STANDARD
END:VTIMEZONE
BEGIN:VEVENT
UID:1464587:Event:31332
DTSTAMP:20260420T163320Z
SUMMARY:The Freeze presents: Super Awesome Rap Team
DESCRIPTION:The Freeze is a group of musicians and verbally deft MCs w
 ho tackle the foibles of daily life on their way to becoming the Super
  Awesome Rap Team. A completely improvised freestyle rap show that use
 s audience suggestions to inspire their songs!\n\nFeaturing Jelly Donu
 t (Andrew Bancroft), Mr. Diggs (Daveed Diggs), Super K (Kyra Gordon), 
 JSoul (James Monroe Iglehart), Junkyard (Olive Mitra), P.I.O.M. (Sanja
 y Pardanani), Gift of Godvien (Brian Rodvien), Agent Smith (Mike Smith
 ), and Two Touch (Anthony Veneziale).\n\nConceived by Anthony Venezial
 e of Freestyle Love Supreme and PBS's The Electric Company.\n\nProduce
 d by Jamie Wright (Lekker Media).\n\nTickets:\nwww.brownpapertickets.c
 om\n\nFor more information visit https://trueskool.com/events/the-free
 ze-presents-super
DTSTART;TZID=America/Los_Angeles:20090501T223000
DTEND;TZID=America/Los_Angeles:20090517T000000
CATEGORIES:hip, hop, improvised, freestyle, theater, show
LOCATION:StageWerx
WEBSITE:http://www.thefreezesf.com
URL:http://www.thefreezesf.com
CONTACT:
ORGANIZER;CN="The Freeze: SuperAwesomeRapTeam":https://trueskool.com/p
 rofile/TheFreezeSuperAwesomeRapTeam
ATTACH;FMTTYPE="image/jpeg":http://storage.ning.com/topology/rest/1.0/
 file/get/2187315612?profile=original
ATTENDEE;ROLE=REQ-PARTICIPANT;PARTSTAT=ACCEPTED;RSVP=TRUE;CN="The Free
 ze: SuperAwesomeRapTeam":https://trueskool.com/profile/TheFreezeSuperA
 wesomeRapTeam
END:VEVENT
END:VCALENDAR
