BEGIN:VCALENDAR
PRODID:NingEventWidget-v1
VERSION:2.0
METHOD:PUBLISH
BEGIN:VTIMEZONE
TZID:America/Los_Angeles
X-LIC-LOCATION:America/Los_Angeles
BEGIN:DAYLIGHT
TZOFFSETFROM:-0800
TZOFFSETTO:-0700
TZNAME:PDT
DTSTART:19700308T020000
RRULE:FREQ=YEARLY;BYMONTH=3;BYDAY=2SU
END:DAYLIGHT
BEGIN:STANDARD
TZOFFSETFROM:-0700
TZOFFSETTO:-0800
TZNAME:PST
DTSTART:19701101T020000
RRULE:FREQ=YEARLY;BYMONTH=11;BYDAY=1SU
END:STANDARD
END:VTIMEZONE
BEGIN:VEVENT
UID:1464587:Event:55448
DTSTAMP:20260420T212947Z
SUMMARY:The Foundation
DESCRIPTION:It's about that time again. Join us this Saturday for The 
 Foundation - bringing it back to where it all started, GOOD MUSIC.\n\n
 DJ SHRED ONE\nBrooklyn Circus | RRS Feed\n\nBorn and raised in Los Ang
 eles, Sheila Red aka Shred One was constantly surrounded and heavily i
 nfluenced by music at a very young age as she tagged along with her vi
 nyl collecting brothers and cousins. She moved to Brooklyn, NY in '98 
 where she began collecting her own records and fell in love with the a
 rt of deejaying, as well as learning the music industry game working a
 t Rawkus Records and Blacksmith Management. She began spinning out whe
 n she moved back to Los Angeles in 2004 and rocked parties like the in
 famous Root Down and Soul Sessions. Now residing in SF, she has since 
 played alongside cutting edge artists such as Daz-i-Kue, 45 King, Tali
 b Kweli, DJ Jazzy Jeff, DJ Spinna and more. She has also been touring 
 a 3x4 set with her group RRS FEED with her partners DJs Roza & Raichou
 s. You can find her spinning soul, hip hop, funk, disco, boogie, house
 , and more on Saturdays at Som Bar SF and Sweater Funk Sundays at Li P
 o Lounge.\n\nOur foundation is built on good music. Good music has sou
 l, substance, positivity and great energy - energy to move the masses.
  We play music to touch your senses. From sight, sound and touch - we 
 try and bring a experience, not just a event. Sing, laugh, dance and b
 uild with people who are like-minded and open to new music, old music 
 - good music. You, the people are the pillars of our foundation - we d
 o this for you.\n\nLimited Discounted Guest List Available ($5 Before 
 11pm w/ RSVP) - somfoundationsf@gmail.com\n\n21 + (musically mature) |
  10pm - After Hours | Fashion Forward | $10 All Night\n\nhip hop | sou
 l | reggae | dancehall | r&b | funk | classic breaks | soulful house\n
 \n+resident djs+\n\nAPOLLO\nTriple Threat\n\nSHORTKUT\nBeat Junkies | 
 Triple Threat\n\nMR. E\nPapalote Hi-Fi\n\n+hosted by+\n\nFRAN BOOGIE\n
 \ntable service | birthdays | special events | limited discounted gues
 t list\nsomfoundationsf@gmail.com\n\nFor more information visit https:
 //trueskool.com/events/the-foundation
DTSTART;TZID=America/Los_Angeles:20100501T220000
DTEND;TZID=America/Los_Angeles:20100502T030000
CATEGORIES:hip, hop, dancehall, reggae, "r&b", old, school, funk
LOCATION:SOM
WEBSITE:
URL:
CONTACT:
ORGANIZER:SOM, Triple Threat, Mr. E & SOM
ATTACH;FMTTYPE="image/jpeg":http://storage.ning.com/topology/rest/1.0/
 file/get/2247881088?profile=original
ATTENDEE;ROLE=REQ-PARTICIPANT;PARTSTAT=ACCEPTED;RSVP=TRUE;CN="DJ Apoll
 o":https://trueskool.com/profile/DJApollo
END:VEVENT
END:VCALENDAR
