BEGIN:VCALENDAR
PRODID:NingEventWidget-v1
VERSION:2.0
METHOD:PUBLISH
BEGIN:VTIMEZONE
TZID:America/Los_Angeles
X-LIC-LOCATION:America/Los_Angeles
BEGIN:DAYLIGHT
TZOFFSETFROM:-0800
TZOFFSETTO:-0700
TZNAME:PDT
DTSTART:19700308T020000
RRULE:FREQ=YEARLY;BYMONTH=3;BYDAY=2SU
END:DAYLIGHT
BEGIN:STANDARD
TZOFFSETFROM:-0700
TZOFFSETTO:-0800
TZNAME:PST
DTSTART:19701101T020000
RRULE:FREQ=YEARLY;BYMONTH=11;BYDAY=1SU
END:STANDARD
END:VTIMEZONE
BEGIN:VEVENT
UID:1464587:Event:60019
DTSTAMP:20260421T150643Z
SUMMARY:The Foreign Exchange w/ YahZarah, Darien Brockington, Zo! and 
 Live Band
DESCRIPTION:\nThe Foreign Exchange w/ YahZarah, Darien Brockington, Zo
 ! and Live Band!\nOpen Dance Floor! 2nd show Added By Popular Demand!\
 nThursday, Friday, July 22, 23\n(FRIDAY ALMOST SOLD OUT!)\nYoshi's San
  Francisco\n1330 Fillmore Street, SF, CA 94115\nbox office: 415-405-51
 02\nticket link: http://www.yoshis.com/sanfrancisco/jazzclub/artist/sh
 ow/1344\n\nFor more information visit https://trueskool.com/events/the
 -foreign-exchange-w
DTSTART;TZID=America/Los_Angeles:20100722T223000
DTEND;TZID=America/Los_Angeles:20100724T020000
CATEGORIES:hip, hop
LOCATION:Yoshi's, San Francisco, CA
WEBSITE:http://sfyoshis2.inticketing.com/evinfo.php?eventid=104457
URL:http://sfyoshis2.inticketing.com/evinfo.php?eventid=104457
CONTACT:
ORGANIZER:Yoshi's
ATTACH;FMTTYPE="image/jpeg":http://storage.ning.com/topology/rest/1.0/
 file/get/2247881925?profile=original
ATTENDEE;ROLE=REQ-PARTICIPANT;PARTSTAT=ACCEPTED;RSVP=TRUE;CN="Editor's
  Pick":https://trueskool.com/profile/RentheVinylArchaeologist
END:VEVENT
END:VCALENDAR
