BEGIN:VCALENDAR
PRODID:NingEventWidget-v1
VERSION:2.0
METHOD:PUBLISH
BEGIN:VTIMEZONE
TZID:America/Los_Angeles
X-LIC-LOCATION:America/Los_Angeles
BEGIN:DAYLIGHT
TZOFFSETFROM:-0800
TZOFFSETTO:-0700
TZNAME:PDT
DTSTART:19700308T020000
RRULE:FREQ=YEARLY;BYMONTH=3;BYDAY=2SU
END:DAYLIGHT
BEGIN:STANDARD
TZOFFSETFROM:-0700
TZOFFSETTO:-0800
TZNAME:PST
DTSTART:19701101T020000
RRULE:FREQ=YEARLY;BYMONTH=11;BYDAY=1SU
END:STANDARD
END:VTIMEZONE
BEGIN:VEVENT
UID:1464587:Event:386357
DTSTAMP:20260421T073353Z
SUMMARY:The Foreign Exchange / DJ Hector - Fri. 7/18 - Great American 
 Music Hall
DESCRIPTION:Representative of how the Internet can aid in creating mus
 ic, the Foreign Exchange started when Little Brother rapper Phonte hea
 rd a beat on Okayplayer.com by Dutch producer Nicolay and asked if he 
 could lay some vocals over it. Nicolay agreed, and the song \"Light It
  Up\" appeared shortly after as the B-side to Little Brother's 2002 si
 ngle \"Whatever You Say.\" Relying mainly on instant messaging and ema
 il, the duo continued to work together, with Nicolay sending beats to 
 Phonte, who would add vocals and send them back until they had enough 
 tracks together to form an album. Not once during the entire process o
 f making their debut, Connected, which came out in 2004, did the membe
 rs of the Foreign Exchange speak over the phone or in person. Due in p
 art to an increasing production load, Nicolay moved to the States, and
  Leave It All Behind, the second FE album - more R&B-oriented than the
  debut - was recorded. Released in 2008 and featuring a handful of stu
 nning videos, its lead single, \"Daykeeper,\" was nominated for a 2010
  Grammy in the category of Best Urban/Alternative Performance (and los
 t to India.Arie's \"Pearls\"). After assisting two of their associates
 , YahZarah (The Ballad of Purple St. James) and Zo! (SunStorm), with a
 lbums, the Foreign Exchange released Authenticity. All three albums we
 re issued in 2010 through The Foreign Exchange Music. A DVD/CD set, De
 ar Friends: An Evening with the Foreign Exchange (2011) and a two-disc
  set of remixes and new songs titled The Reworks (2013) preceded the g
 roup's fourth studio album, Love in Flying Colors.\n\nFor more informa
 tion visit https://trueskool.com/events/the-foreign-exchange-dj-hector
 -fri-7-18-great-american-music-hall
DTSTART;TZID=America/Los_Angeles:20140718T200000
DTEND;TZID=America/Los_Angeles:20140719T010000
CATEGORIES:"san francisco", "bay area"
LOCATION:Great American Music Hall, San Francisco
WEBSITE:http://www.gamhtickets.com
URL:http://www.gamhtickets.com
CONTACT:(415) 885-0750
ORGANIZER;CN=Tracey:https://trueskool.com/profile/Tracey
ATTACH;FMTTYPE="image/jpeg":http://storage.ning.com/topology/rest/1.0/
 file/get/2247964779?profile=original
ATTENDEE;ROLE=REQ-PARTICIPANT;PARTSTAT=ACCEPTED;RSVP=TRUE;CN="James Mi
 chael Federighi":https://trueskool.com/profile/JamesMichaelFederighi
ATTENDEE;ROLE=REQ-PARTICIPANT;PARTSTAT=ACCEPTED;RSVP=TRUE;CN=Tracey:ht
 tps://trueskool.com/profile/Tracey
END:VEVENT
END:VCALENDAR
