BEGIN:VCALENDAR
PRODID:NingEventWidget-v1
VERSION:2.0
METHOD:PUBLISH
BEGIN:VTIMEZONE
TZID:America/Los_Angeles
X-LIC-LOCATION:America/Los_Angeles
BEGIN:DAYLIGHT
TZOFFSETFROM:-0800
TZOFFSETTO:-0700
TZNAME:PDT
DTSTART:19700308T020000
RRULE:FREQ=YEARLY;BYMONTH=3;BYDAY=2SU
END:DAYLIGHT
BEGIN:STANDARD
TZOFFSETFROM:-0700
TZOFFSETTO:-0800
TZNAME:PST
DTSTART:19701101T020000
RRULE:FREQ=YEARLY;BYMONTH=11;BYDAY=1SU
END:STANDARD
END:VTIMEZONE
BEGIN:VEVENT
UID:1464587:Event:631952
DTSTAMP:20260421T083109Z
SUMMARY:'The Essence' Day Party ft DJ SCRATCH
DESCRIPTION:\nLadies and Gentlemen.... The Party Continues   Supabad E
 ntertainment Presents:  THE ESSENCE ( A Day Party Musical Journey )  
  Featuring a LIVE Dj Set by   DJ SCRATCH   Join us as we we bring to
  you our special guest DJ SCRATCH, as he rocks the Bay Area party scen
 e for the first time. Dj Scratch is a Grammy nominated multi platinum 
 hip hop producer, 2010 Master of the mix winner and the official dj fo
 r the hip hop super group EPMD. Do not miss your chance to check him o
 ut in the mix LIVE. Get Your Tickets Now!!!!  Also Featuring Original 
 DJs   Pos Red & Supreme in the Mixxx   -----------------------------
 ----------------------------------------  Get Your Tickets Now  http:/
 /theessencepartydjscratch.eventbrite.com/?s=40056967  ----------------
 ----------------------------------------------------------------------
 ---------------------------------------  111 Minna Gallery   111 Minn
 a St San Francisco   Sunday July 12th 2015   2pm-8pm  21 & Over  Sta
 nding Room Only  NO REFUNDS  -----------------------------------------
 ----------------------------------------------------------------------
 --------------  www.supabadentertainment.com  Facebook, Instagram & Tw
 itter - supabadent\n\nFor more information visit https://trueskool.com
 /events/the-essence-day-party-ft-dj-scratch
DTSTART;TZID=America/Los_Angeles:20150712T140000
DTEND;TZID=America/Los_Angeles:20150712T200000
CATEGORIES:party, hip, hop, djs, day, san, francisco
LOCATION:san francisco
WEBSITE:
URL:
CONTACT:
ORGANIZER;CN="Supabad Entertainment":https://trueskool.com/profile/Sup
 abadEnt
ATTACH;FMTTYPE="image/jpeg":http://storage.ning.com/topology/rest/1.0/
 file/get/2247977919?profile=original
ATTENDEE;ROLE=REQ-PARTICIPANT;PARTSTAT=ACCEPTED;RSVP=TRUE;CN="m.deep.m
 usic":https://trueskool.com/profile/mdeepmusic
ATTENDEE;ROLE=REQ-PARTICIPANT;PARTSTAT=ACCEPTED;RSVP=TRUE;CN="Supabad 
 Entertainment":https://trueskool.com/profile/SupabadEnt
END:VEVENT
END:VCALENDAR
