BEGIN:VCALENDAR
PRODID:NingEventWidget-v1
VERSION:2.0
METHOD:PUBLISH
BEGIN:VTIMEZONE
TZID:America/Los_Angeles
X-LIC-LOCATION:America/Los_Angeles
BEGIN:DAYLIGHT
TZOFFSETFROM:-0800
TZOFFSETTO:-0700
TZNAME:PDT
DTSTART:19700308T020000
RRULE:FREQ=YEARLY;BYMONTH=3;BYDAY=2SU
END:DAYLIGHT
BEGIN:STANDARD
TZOFFSETFROM:-0700
TZOFFSETTO:-0800
TZNAME:PST
DTSTART:19701101T020000
RRULE:FREQ=YEARLY;BYMONTH=11;BYDAY=1SU
END:STANDARD
END:VTIMEZONE
BEGIN:VEVENT
UID:1464587:Event:38794
DTSTAMP:20260420T211818Z
SUMMARY:The Ecstatic Tour: Mos Def, Erykah Badu, The Cannabinoids, Jay
  Electronica
DESCRIPTION:The Ecstatic Tour: Mos Def, Erykah Badu, The Cannabinoids,
  Jay Electronica\n\nParamount Theatre-Oakland\n2025 Broadway, Oakland,
  CA 94612\nFri, 09/04/09\n07:30 PM\n\n\n\nFor more information visit h
 ttps://trueskool.com/events/the-ecstatic-tour-mos-def
DTSTART;TZID=America/Los_Angeles:20090904T193000
DTEND;TZID=America/Los_Angeles:20090904T230000
CATEGORIES:hip, hop, soul, "r&b"
LOCATION:Paramount Theatre, Oakland, CA
WEBSITE:http://www.ticketmaster.com/event/1C00430ADA007145?artistid=80
 0334&majorcatid=10001&minorcatid=3
URL:http://www.ticketmaster.com/event/1C00430ADA007145?artistid=800334
 &majorcatid=10001&minorcatid=3
CONTACT:
ORGANIZER:Live Nation
ATTACH;FMTTYPE="image/jpeg":http://storage.ning.com/topology/rest/1.0/
 file/get/2106896796?profile=original
ATTENDEE;ROLE=REQ-PARTICIPANT;PARTSTAT=ACCEPTED;RSVP=TRUE;CN="Ren the 
 Vinyl Archaeologist":https://trueskool.com/profile/xh51jvilojur
END:VEVENT
END:VCALENDAR
