BEGIN:VCALENDAR
PRODID:NingEventWidget-v1
VERSION:2.0
METHOD:PUBLISH
BEGIN:VTIMEZONE
TZID:America/Los_Angeles
X-LIC-LOCATION:America/Los_Angeles
BEGIN:DAYLIGHT
TZOFFSETFROM:-0800
TZOFFSETTO:-0700
TZNAME:PDT
DTSTART:19700308T020000
RRULE:FREQ=YEARLY;BYMONTH=3;BYDAY=2SU
END:DAYLIGHT
BEGIN:STANDARD
TZOFFSETFROM:-0700
TZOFFSETTO:-0800
TZNAME:PST
DTSTART:19701101T020000
RRULE:FREQ=YEARLY;BYMONTH=11;BYDAY=1SU
END:STANDARD
END:VTIMEZONE
BEGIN:VEVENT
UID:1464587:Event:666393
DTSTAMP:20260421T011003Z
SUMMARY:The Do-Over Block Party
DESCRIPTION:The Do-Over Block Party\r\nSunday September 17th, 2017 21+
 . Noon-7pm. The Great Northern's Block Utah Street (between 15th and A
 lameda) San Francisco, CA 94103\r\n*Entrance to this event will be at 
 the corner of 15th and Utah St.\r\n\r\nOn Sunday September 17th, The D
 o-Over, adidas Originals, and Flavor Group present a very special foll
 ow up to the annual massive Block Party in SF. From the extra positive
  reviews of past SF Do-Overs, we're bringing the block party vibe back
  to the Bay Area and keeping levels high.\r\nThe Do-Over Block Party w
 ill run from noon-7pm outside. While we keep our guests a mystery we p
 romise to bring you that extra specialness. We continue to raise the b
 ar every year, and this year will definitely be no exception.\r\n\"Bes
 t Party on The Planet!\" - DJ Jazzy Jeff\r\nThere will be plenty of fr
 ee and safe street parking, food provided by a variety of food trucks,
  eating areas, full bars & express beer counters, and other local vend
 ors.\r\nTHIS EVENT IS RAIN OR SHINE AND THERE ARE NO REFUNDS FOR TICKE
 TS\n\nFor more information visit https://trueskool.com/events/the-do-o
 ver-block-party-1
DTSTART;TZID=America/Los_Angeles:20170917T120000
DTEND;TZID=America/Los_Angeles:20170917T190000
CATEGORIES:"san francisco", oakland, berkley, "san jose", "bay area"
LOCATION:The Great Northern, San Francisco
WEBSITE:https://upallnight.us/events/the-do-over-block-party-sep-17-20
 17/orders/new
URL:https://upallnight.us/events/the-do-over-block-party-sep-17-2017/o
 rders/new
CONTACT:
ORGANIZER;CN="Editor's Pick":https://trueskool.com/profile/RentheVinyl
 Archaeologist
ATTACH;FMTTYPE="image/jpeg":http://storage.ning.com/topology/rest/1.0/
 file/get/2247999994?profile=original
ATTENDEE;ROLE=REQ-PARTICIPANT;PARTSTAT=ACCEPTED;RSVP=TRUE;CN="Editor's
  Pick":https://trueskool.com/profile/RentheVinylArchaeologist
END:VEVENT
END:VCALENDAR
