BEGIN:VCALENDAR
PRODID:NingEventWidget-v1
VERSION:2.0
METHOD:PUBLISH
BEGIN:VTIMEZONE
TZID:America/Los_Angeles
X-LIC-LOCATION:America/Los_Angeles
BEGIN:DAYLIGHT
TZOFFSETFROM:-0800
TZOFFSETTO:-0700
TZNAME:PDT
DTSTART:19700308T020000
RRULE:FREQ=YEARLY;BYMONTH=3;BYDAY=2SU
END:DAYLIGHT
BEGIN:STANDARD
TZOFFSETFROM:-0700
TZOFFSETTO:-0800
TZNAME:PST
DTSTART:19701101T020000
RRULE:FREQ=YEARLY;BYMONTH=11;BYDAY=1SU
END:STANDARD
END:VTIMEZONE
BEGIN:VEVENT
UID:1464587:Event:53898
DTSTAMP:20260421T004135Z
SUMMARY:The Deconstruction Orchestra
DESCRIPTION:Sax demon Josh Allen returns to Flux for a four-week resid
 ency with his monster avant-improv ensemble – bigger and badder than
  ever! Featuring such local lights as Henry Kaiser, Darren Johnston, A
 va Mendoza, Tom Djll, Ron Heglin, Damon Smith, and Roberto Haven of th
 e Church of Coltrane.\n\nJosh opens at 8PM playing duo with a differen
 t drummer on each date (Kjell Nordeson, Spirit, Miguel Barrera, and Wi
 lliam Winant). Then at 9PM the Orchestra burns the whole place down!\n
 \nFour Sundays: May 2nd, 9th, 16th, 23rd – All dates 8PM – $10 sug
 gested donation\n\nFor more information visit https://trueskool.com/ev
 ents/the-deconstruction-orchestra
DTSTART;TZID=America/Los_Angeles:20100502T200000
DTEND;TZID=America/Los_Angeles:20100523T223000
CATEGORIES:massive, saxophone, freakout
LOCATION:Flux 53 Theater, Oakland
WEBSITE:http://maps.google.com/maps?num=20&hl=en&newwindow=1&safe=off&
 rlz=1B3GGGL_enUS370US371&q=foothill+and+fairfax+oakland&um=1&ie=UTF-8&
 hq=&hnear=Foothill+Blvd+%26+Fairfax+Ave,+Oakland,+CA+94601&gl=us&ei=zi
 3ES-KXK4TUsgOCk5D1DA&sa=X&oi=geocode_result&ct=image&resnum=1&ved=0CAg
 Q8gEwAA
URL:http://maps.google.com/maps?num=20&hl=en&newwindow=1&safe=off&rlz=
 1B3GGGL_enUS370US371&q=foothill+and+fairfax+oakland&um=1&ie=UTF-8&hq=&
 hnear=Foothill+Blvd+%26+Fairfax+Ave,+Oakland,+CA+94601&gl=us&ei=zi3ES-
 KXK4TUsgOCk5D1DA&sa=X&oi=geocode_result&ct=image&resnum=1&ved=0CAgQ8gE
 wAA
CONTACT:(510) 338-2432
ORGANIZER;CN="Flux 53 Theater":https://trueskool.com/profile/Flux53The
 ater
ATTACH;FMTTYPE="image/jpeg":http://storage.ning.com/topology/rest/1.0/
 file/get/2247877106?profile=original
ATTENDEE;ROLE=REQ-PARTICIPANT;PARTSTAT=ACCEPTED;RSVP=TRUE;CN="Flux 53 
 Theater":https://trueskool.com/profile/Flux53Theater
END:VEVENT
END:VCALENDAR
