BEGIN:VCALENDAR
PRODID:NingEventWidget-v1
VERSION:2.0
METHOD:PUBLISH
BEGIN:VTIMEZONE
TZID:America/Los_Angeles
X-LIC-LOCATION:America/Los_Angeles
BEGIN:DAYLIGHT
TZOFFSETFROM:-0800
TZOFFSETTO:-0700
TZNAME:PDT
DTSTART:19700308T020000
RRULE:FREQ=YEARLY;BYMONTH=3;BYDAY=2SU
END:DAYLIGHT
BEGIN:STANDARD
TZOFFSETFROM:-0700
TZOFFSETTO:-0800
TZNAME:PST
DTSTART:19701101T020000
RRULE:FREQ=YEARLY;BYMONTH=11;BYDAY=1SU
END:STANDARD
END:VTIMEZONE
BEGIN:VEVENT
UID:1464587:Event:434157
DTSTAMP:20260421T020621Z
SUMMARY:The Dance SF w/ DJ Grandmaster Flash (WIN TICKETS)
DESCRIPTION:\n\nSATURDAY OCT 11\nThe Dance SF \nFeaturing:\nDJ Grandm
 aster Flash - first SF performance in three years!\nJ Boogie - yoga s
 et w/ Meghan Meyer\nAfrolicious DJ Set featuring Pleasuremaker and 
 Special Guests\nMotown on Mondays DJs w/ The Hitsville Soul Sisters\
 nNonstop Bhangra DJ set featuring Jimmy Love w/ Dholrhythms Dance 
 Troupe\nMatt Haze w/ Dylan Germick of Planet Booty\nDJ Alarm  Proj
 ect AMPLIFI, At The Crossroads & More SF announce The Dance SF, a danc
 eathon for friends, neighbors and community activists to aid homeless 
 youth. Eight of hours of music to move your body and make a change in 
 the city we love - are you going to THE DANCE?\n@ Mighty 119 Utah St. 
 SF\n21+. 9am-5pm.\n>> BUY TICKETS\n\nFor more information visit https:
 //trueskool.com/events/the-dance-sf-w-dj-grandmaster-flash-win-tickets
DTSTART;TZID=America/Los_Angeles:20141011T090000
DTEND;TZID=America/Los_Angeles:20141011T170000
CATEGORIES:"san francisco", "bay area", oakland, berkeley
LOCATION:Mighty, San Francisco, CA
WEBSITE:http://bit.ly/flash14
URL:http://bit.ly/flash14
CONTACT:
ORGANIZER:More SF, Project Amplifi and At the Crossroads
ATTACH;FMTTYPE="image/jpeg":http://storage.ning.com/topology/rest/1.0/
 file/get/2247967305?profile=original
ATTENDEE;ROLE=REQ-PARTICIPANT;PARTSTAT=ACCEPTED;RSVP=TRUE;CN="Eric Dur
 an":https://trueskool.com/profile/EricDuran
ATTENDEE;ROLE=REQ-PARTICIPANT;PARTSTAT=ACCEPTED;RSVP=TRUE;CN="sahar mi
 lani":https://trueskool.com/profile/saharmilani
ATTENDEE;ROLE=REQ-PARTICIPANT;PARTSTAT=ACCEPTED;RSVP=TRUE;CN="David Go
 odlund":https://trueskool.com/profile/DavidGoodlund
ATTENDEE;ROLE=REQ-PARTICIPANT;PARTSTAT=ACCEPTED;RSVP=TRUE;CN="Kimon Fl
 anagan":https://trueskool.com/profile/KimonFlanagan
ATTENDEE;ROLE=REQ-PARTICIPANT;PARTSTAT=ACCEPTED;RSVP=TRUE;CN="Ann P":h
 ttps://trueskool.com/profile/AnnP
ATTENDEE;ROLE=REQ-PARTICIPANT;PARTSTAT=ACCEPTED;RSVP=TRUE;CN="Carolina
  Quijano":https://trueskool.com/profile/CarolinaQuijano
ATTENDEE;ROLE=REQ-PARTICIPANT;PARTSTAT=ACCEPTED;RSVP=TRUE;CN="Mark Hen
 derson":https://trueskool.com/profile/MarkHenderson
ATTENDEE;ROLE=REQ-PARTICIPANT;PARTSTAT=ACCEPTED;RSVP=TRUE;CN="m.deep.m
 usic":https://trueskool.com/profile/mdeepmusic
ATTENDEE;ROLE=REQ-PARTICIPANT;PARTSTAT=ACCEPTED;RSVP=TRUE;CN="ANGELA S
 HORT":https://trueskool.com/profile/ANGELASHORT
ATTENDEE;ROLE=REQ-PARTICIPANT;PARTSTAT=ACCEPTED;RSVP=TRUE;CN="James Mi
 chael Federighi":https://trueskool.com/profile/JamesMichaelFederighi
ATTENDEE;ROLE=REQ-PARTICIPANT;PARTSTAT=ACCEPTED;RSVP=TRUE;CN="Iris E."
 :https://trueskool.com/profile/IrisE
ATTENDEE;ROLE=REQ-PARTICIPANT;PARTSTAT=ACCEPTED;RSVP=TRUE;CN=Frost:htt
 ps://trueskool.com/profile/Frost
ATTENDEE;ROLE=REQ-PARTICIPANT;PARTSTAT=ACCEPTED;RSVP=TRUE;CN="Editor's
  Pick":https://trueskool.com/profile/RentheVinylArchaeologist
ATTENDEE;ROLE=REQ-PARTICIPANT;PARTSTAT=TENTATIVE;RSVP=TRUE;CN=tonybone
 z:https://trueskool.com/profile/tonybonez
END:VEVENT
END:VCALENDAR
