BEGIN:VCALENDAR
PRODID:NingEventWidget-v1
VERSION:2.0
METHOD:PUBLISH
BEGIN:VTIMEZONE
TZID:America/Los_Angeles
X-LIC-LOCATION:America/Los_Angeles
BEGIN:DAYLIGHT
TZOFFSETFROM:-0800
TZOFFSETTO:-0700
TZNAME:PDT
DTSTART:19700308T020000
RRULE:FREQ=YEARLY;BYMONTH=3;BYDAY=2SU
END:DAYLIGHT
BEGIN:STANDARD
TZOFFSETFROM:-0700
TZOFFSETTO:-0800
TZNAME:PST
DTSTART:19701101T020000
RRULE:FREQ=YEARLY;BYMONTH=11;BYDAY=1SU
END:STANDARD
END:VTIMEZONE
BEGIN:VEVENT
UID:1464587:Event:65499
DTSTAMP:20260420T113210Z
SUMMARY:The Classics Graffiti Art Show
DESCRIPTION:Presented by Nate1 and the 1AM SF Gallery\nThe Classics Gr
 affiti Art Show\nSeptember 10 - October 16, 2010\n\nOpening reception 
 on September 10th from 7 - 10pm\n\n1AM SF Gallery\n1000 Howard St., Sa
 n Francisco, CA 94127\n1amsf.com\n\nFor more information visit https:/
 /trueskool.com/events/the-classics-graffiti-art-show
DTSTART;TZID=America/Los_Angeles:20100910T190000
DTEND;TZID=America/Los_Angeles:20100910T220000
CATEGORIES:san, franciscso, ca
LOCATION:1AM SF Gallery, San Francisco, CA
WEBSITE:http://www.1amsf.com
URL:http://www.1amsf.com
CONTACT:(415) 861-5089
ORGANIZER:Nate1
ATTACH;FMTTYPE="image/jpeg":http://storage.ning.com/topology/rest/1.0/
 file/get/2247882444?profile=original
ATTENDEE;ROLE=REQ-PARTICIPANT;PARTSTAT=ACCEPTED;RSVP=TRUE;CN=Bam:https
 ://trueskool.com/profile/Bam
END:VEVENT
END:VCALENDAR
