BEGIN:VCALENDAR
PRODID:NingEventWidget-v1
VERSION:2.0
METHOD:PUBLISH
BEGIN:VTIMEZONE
TZID:America/Los_Angeles
X-LIC-LOCATION:America/Los_Angeles
BEGIN:DAYLIGHT
TZOFFSETFROM:-0800
TZOFFSETTO:-0700
TZNAME:PDT
DTSTART:19700308T020000
RRULE:FREQ=YEARLY;BYMONTH=3;BYDAY=2SU
END:DAYLIGHT
BEGIN:STANDARD
TZOFFSETFROM:-0700
TZOFFSETTO:-0800
TZNAME:PST
DTSTART:19701101T020000
RRULE:FREQ=YEARLY;BYMONTH=11;BYDAY=1SU
END:STANDARD
END:VTIMEZONE
BEGIN:VEVENT
UID:1464587:Event:41178
DTSTAMP:20260422T103608Z
SUMMARY:The Can Film Festival
DESCRIPTION:Estria Invitational Graffiti Battle, Living Word Festival,
  Hard Knock Radio & 1:AM SF Gallery Present:\nDon't Sweat the Techniqu
 e: The Can Film Festival\nThursday, October 8th\n6:00PM open, shows st
 art at 7PM\n\n1:AM SF Gallery\n1000 Howard St., San Francisco, CA\nFRE
 E event\n\nGraffiti Documentaries \"Bomb It\" & \"Style Wars\"\nQ&A mo
 derated by: Jeff Chang\nPanelists: Kevin Epps, Suzie Lundy, Erin Yoshi
 oka, Estria Miyashiro\n\nFor more information visit https://trueskool.
 com/events/the-can-film-festival
DTSTART;TZID=America/Los_Angeles:20091008T180000
DTEND;TZID=America/Los_Angeles:20091008T220000
CATEGORIES:hip, hop, old, school, graffiti
LOCATION:1AM Gallery, San Francisco, CA
WEBSITE:http://www.estriabattle.com
URL:http://www.estriabattle.com
CONTACT:(415) 861-5089
ORGANIZER;CN=Bam:https://trueskool.com/profile/Bam
ATTACH;FMTTYPE="image/jpeg":http://storage.ning.com/topology/rest/1.0/
 file/get/2247866712?profile=original
ATTENDEE;ROLE=REQ-PARTICIPANT;PARTSTAT=ACCEPTED;RSVP=TRUE;CN=Bam:https
 ://trueskool.com/profile/Bam
END:VEVENT
END:VCALENDAR
