BEGIN:VCALENDAR
PRODID:NingEventWidget-v1
VERSION:2.0
METHOD:PUBLISH
BEGIN:VTIMEZONE
TZID:America/Los_Angeles
X-LIC-LOCATION:America/Los_Angeles
BEGIN:DAYLIGHT
TZOFFSETFROM:-0800
TZOFFSETTO:-0700
TZNAME:PDT
DTSTART:19700308T020000
RRULE:FREQ=YEARLY;BYMONTH=3;BYDAY=2SU
END:DAYLIGHT
BEGIN:STANDARD
TZOFFSETFROM:-0700
TZOFFSETTO:-0800
TZNAME:PST
DTSTART:19701101T020000
RRULE:FREQ=YEARLY;BYMONTH=11;BYDAY=1SU
END:STANDARD
END:VTIMEZONE
BEGIN:VEVENT
UID:1464587:Event:508062
DTSTAMP:20260421T032835Z
SUMMARY:The Budos Band
DESCRIPTION:\nThe Budos Band\n\n\nThe FillmoreSan Francisco, CA\n\nSu
 n, 01/18/1508:00 PM\n\nSee Ticketson Live Nation\n\n\n\n\n\n\nFor more
  information visit https://trueskool.com/events/the-budos-band
DTSTART;TZID=America/Los_Angeles:20150118T200000
DTEND;TZID=America/Los_Angeles:20150118T230000
CATEGORIES:"bay area", "san francisco"
LOCATION:The Fillmore
WEBSITE:http://www.ticketmaster.com/partner_redirect?v=SgVPcl5dQCGIEYR
 4SoEkHtA156qxEtd3p3FTmHPRtA6VhsKbYRozvl2_qokU1ZSkPazSubOP_9RxSwJVb8u5z
 pNPC0xh8yrOtPdkbYDqhGpCgXcZQed_XaCZ-RknHFrf6yYweA&eventid=1C004D4EEF07
 5A39&artistid=1196478&artistname=The%20Budos%20Band&crosssite=TM_US:11
 96478:229424&tm_link=browse_msg-0_1C004D4EEF075A39
URL:http://www.ticketmaster.com/partner_redirect?v=SgVPcl5dQCGIEYR4SoE
 kHtA156qxEtd3p3FTmHPRtA6VhsKbYRozvl2_qokU1ZSkPazSubOP_9RxSwJVb8u5zpNPC
 0xh8yrOtPdkbYDqhGpCgXcZQed_XaCZ-RknHFrf6yYweA&eventid=1C004D4EEF075A39
 &artistid=1196478&artistname=The%20Budos%20Band&crosssite=TM_US:119647
 8:229424&tm_link=browse_msg-0_1C004D4EEF075A39
CONTACT:
ORGANIZER:Live Nation
ATTACH;FMTTYPE="image/jpeg":http://storage.ning.com/topology/rest/1.0/
 file/get/2247972243?profile=original
ATTENDEE;ROLE=REQ-PARTICIPANT;PARTSTAT=ACCEPTED;RSVP=TRUE;CN="Editor's
  Pick":https://trueskool.com/profile/RentheVinylArchaeologist
END:VEVENT
END:VCALENDAR
