BEGIN:VCALENDAR
PRODID:NingEventWidget-v1
VERSION:2.0
METHOD:PUBLISH
BEGIN:VTIMEZONE
TZID:America/Los_Angeles
X-LIC-LOCATION:America/Los_Angeles
BEGIN:DAYLIGHT
TZOFFSETFROM:-0800
TZOFFSETTO:-0700
TZNAME:PDT
DTSTART:19700308T020000
RRULE:FREQ=YEARLY;BYMONTH=3;BYDAY=2SU
END:DAYLIGHT
BEGIN:STANDARD
TZOFFSETFROM:-0700
TZOFFSETTO:-0800
TZNAME:PST
DTSTART:19701101T020000
RRULE:FREQ=YEARLY;BYMONTH=11;BYDAY=1SU
END:STANDARD
END:VTIMEZONE
BEGIN:VEVENT
UID:1464587:Event:32782
DTSTAMP:20260421T210238Z
SUMMARY:The Brooklyn Circus SF Proudly Presents Ryan Leslie Live at yo
 shi's on Fillmore
DESCRIPTION: Purchase tickets to the Ryan Leslie show here:http://sfyo
 shis2.inticketing.com/events2/35793/RYAN-LESLIE--10PMLe Cirque: Ryan L
 eslie Pre & After Party- Special EditionCome enjoy an evening of great
  people & music featuring resident DJ Shred One (BKcSF) joined this we
 ek by DJ Proof (Massive Selector, SF), spinning the best Hip-Hop, Funk
 , & Soul at San Francisco's most beautiful venue, Yoshi's San Francisc
 o Jazz Club & Restaurant. The Brooklyn Circus presents: LE CIRQUE: Rya
 n Leslie Pre & After Party- Special Edition Feat. Resident DJ SHRED ON
 E (BKcSF) .. This week's special guest DJ PROOF (Massive Selector, SF)
 ..Yoshi's Jazz Club & Restaurant-1330 Fillmore St. 9pm-2am $10 Admissi
 on @ the door $5 Pre-sale tickets available at The Brooklyn Circus SF 
 FREE admission before 10:30pm w/ RSVP RSVP to SFinfo@theBKcircus.com..
 ..Scenes from the last Le Cirque: ..........\n\n\n\n\n\n\n\n\n\n\n\n\n
 For more information visit https://trueskool.com/events/the-brooklyn-c
 ircus-sf-proudly
DTSTART;TZID=America/Los_Angeles:20090611T210000
DTEND;TZID=America/Los_Angeles:20090612T020000
CATEGORIES:"r&b"
LOCATION:Yoshi's San Francisco, Ca
WEBSITE:
URL:
CONTACT:415.359.1999
ORGANIZER;CN="D.N.E":https://trueskool.com/profile/DNE
ATTACH;FMTTYPE="image/jpeg":http://storage.ning.com/topology/rest/1.0/
 file/get/2247858318?profile=original
ATTENDEE;ROLE=REQ-PARTICIPANT;PARTSTAT=ACCEPTED;RSVP=TRUE;CN="D.N.E":h
 ttps://trueskool.com/profile/DNE
END:VEVENT
END:VCALENDAR
