BEGIN:VCALENDAR
PRODID:NingEventWidget-v1
VERSION:2.0
METHOD:PUBLISH
BEGIN:VTIMEZONE
TZID:America/Los_Angeles
X-LIC-LOCATION:America/Los_Angeles
BEGIN:DAYLIGHT
TZOFFSETFROM:-0800
TZOFFSETTO:-0700
TZNAME:PDT
DTSTART:19700308T020000
RRULE:FREQ=YEARLY;BYMONTH=3;BYDAY=2SU
END:DAYLIGHT
BEGIN:STANDARD
TZOFFSETFROM:-0700
TZOFFSETTO:-0800
TZNAME:PST
DTSTART:19701101T020000
RRULE:FREQ=YEARLY;BYMONTH=11;BYDAY=1SU
END:STANDARD
END:VTIMEZONE
BEGIN:VEVENT
UID:1464587:Event:40526
DTSTAMP:20260422T032514Z
SUMMARY:THE BRIDGE
DESCRIPTION:The Bridge is the borderless music and art event by mixing
  unique culture of African, American, and Japanese. DJ SPODY a.k.a. Sp
 iritual Odyssey (Club Jazz), DJ Kent (Bossa Nova), Aoi (Japanese Calli
 graphy), Akira(Mixed Media) will take you to the world of modern Japan
 ese music and art. DJ King Most from S.F mixes hip hop & soul sounds f
 or the night. His highlights of collaboration include Biz Markie, DJ S
 pinna, SA-RA Creative Partners, and Exile & Day. DJ Jeremiah & Afrobea
 t Nation performs a live playing African music influenced with funk.\n
 \nAfrican sculpture, GITHINJI will display his unique and powerful wor
 ks as well as collaborative works that will be done with Aoi, Akira an
 d GITHINJI. Come and get experience the international night at Project
  One in S.F.\n\nFor more information visit https://trueskool.com/event
 s/the-bridge
DTSTART;TZID=America/Los_Angeles:20090912T210000
DTEND;TZID=America/Los_Angeles:20090913T020000
CATEGORIES:afrofunk, club, jazz, bossa, nova, soul, house, downtempo
LOCATION:Project One, San Francisco, CA
WEBSITE:http://www.p1sf.com
URL:http://www.p1sf.com
CONTACT:
ORGANIZER:Heita / Jeremiah
ATTACH;FMTTYPE="image/jpeg":http://storage.ning.com/topology/rest/1.0/
 file/get/2247864767?profile=original
ATTENDEE;ROLE=REQ-PARTICIPANT;PARTSTAT=ACCEPTED;RSVP=TRUE;CN=Heiti:htt
 ps://trueskool.com/profile/Heiti
ATTENDEE;ROLE=REQ-PARTICIPANT;PARTSTAT=ACCEPTED;RSVP=TRUE;CN=jon:https
 ://trueskool.com/profile/Eric816
ATTENDEE;ROLE=REQ-PARTICIPANT;PARTSTAT=ACCEPTED;RSVP=TRUE;CN="Aoi Yama
 guchi":https://trueskool.com/profile/AoiYamaguchi
END:VEVENT
END:VCALENDAR
