BEGIN:VCALENDAR
PRODID:NingEventWidget-v1
VERSION:2.0
METHOD:PUBLISH
BEGIN:VTIMEZONE
TZID:America/Los_Angeles
X-LIC-LOCATION:America/Los_Angeles
BEGIN:DAYLIGHT
TZOFFSETFROM:-0800
TZOFFSETTO:-0700
TZNAME:PDT
DTSTART:19700308T020000
RRULE:FREQ=YEARLY;BYMONTH=3;BYDAY=2SU
END:DAYLIGHT
BEGIN:STANDARD
TZOFFSETFROM:-0700
TZOFFSETTO:-0800
TZNAME:PST
DTSTART:19701101T020000
RRULE:FREQ=YEARLY;BYMONTH=11;BYDAY=1SU
END:STANDARD
END:VTIMEZONE
BEGIN:VEVENT
UID:1464587:Event:42312
DTSTAMP:20260421T050829Z
SUMMARY:THE BLACK CARPET TREATMENT hip hop event
DESCRIPTION:\n\nFor more information visit https://trueskool.com/event
 s/the-black-carpet-treatment-hip
DTSTART;TZID=America/Los_Angeles:20091113T213000
DTEND;TZID=America/Los_Angeles:20091114T020000
CATEGORIES:international, hip, hop, show
LOCATION:el rincon
WEBSITE:http://www.elrinconsf.com
URL:http://www.elrinconsf.com
CONTACT:415 427 9340
ORGANIZER;CN=EYEZON:https://trueskool.com/profile/EYEZON
ATTACH;FMTTYPE="image/jpeg":http://storage.ning.com/topology/rest/1.0/
 file/get/2247868596?profile=original
ATTENDEE;ROLE=REQ-PARTICIPANT;PARTSTAT=ACCEPTED;RSVP=TRUE;CN=EYEZON:ht
 tps://trueskool.com/profile/EYEZON
END:VEVENT
END:VCALENDAR
